BEGIN:VCALENDAR
VERSION:2.0
PRODID:-//wp-events-plugin.com//7.2.3.1//EN
TZID:America/New_York
X-WR-TIMEZONE:America/New_York
BEGIN:VEVENT
UID:422@breathemiami.us
DTSTART;TZID=America/New_York:20240421T100000
DTEND;TZID=America/New_York:20240421T180000
DTSTAMP:20240407T172631Z
URL:https://breathemiami.us/events/activelife-expo-ignite/
SUMMARY:ActiveLife Expo: Ignite
DESCRIPTION:\nDive into Holistic Wellness: The Active Life Expo Awaits!\nSe
 eking a transformative path to vibrant health? The Active Life Expo shatte
 rs conventional approaches\, offering a world of holistic solutions beyond
  pharmaceuticals. This groundbreaking event caters to everyone! Whether yo
 u're a seasoned athlete\, navigating chronic illness\, or simply seeking w
 ell-being\, this expo ignites your journey.\nDiscover Powerful Modalities:
 \n\n\n 	Energy Healing: Experience the calming power of Reiki mastery\, co
 mbating anxiety and depression through gentle energy work.\n 	Traditional 
 Therapies: Find relief from chronic and acute pain with ancient practices 
 like acupuncture and chiropractic care.\n 	Holistic Treatments: Explore me
 dical massage and hypnotherapy\, addressing mental and physical concerns w
 ith a holistic approach.\n 	Movement &amp\; Performance: Enhance flexibili
 ty and strength with The Stretch Zone\, or embrace the empowering discipli
 ne of Mixed Martial Arts.\n\nUncover Your Optimal Health:\n\n\n 	Comprehen
 sive Physicals: Gain valuable insights with glucose\, cholesterol\, ECG te
 sts\, and body composition analysis. Receive a personalized plan to propel
  your health journey.\n\nFuel Your Vitality (Optional):\n\n\n 	IV Infusion
  Therapy: Upgrade your experience with specialized IV infusions designed f
 or power\, performance\, immunity\, and hormone optimization.\n\nThe Activ
 e Life Expo is More Than an Event\; It's a Community:\n\n\n 	Holistic Appr
 oach: Embark on a wellness journey that transcends pharmaceuticals\, prior
 itizing natural solutions and lasting results.\n 	Cutting-Edge Discoveries
 : Explore the latest advancements in health and fitness\, unlocking new pa
 thways to optimal well-being.\n 	Expert Guidance: Connect with a team of p
 assionate professionals and personalize your health plan with expert insig
 hts.\n 	Like-Minded Community: Join a vibrant community dedicated to natur
 al health solutions and empowered living.\n\nDon't miss this opportunity t
 o ignite your health! Tickets are selling out fast. Grab yours and step in
 to a world of holistic wellness\, performance enhancement\, and a life fue
 led by natural vitality. The Active Life Expo – Ignite your health\, ign
 ite your life!\n\n\n\nBUY TICKETS\n
ATTACH;FMTTYPE=image/jpeg:https://breathemiami.us/wp-content/uploads/2024/
 04/https___cdn.evbuc_.com_images_720794659_1227916222913_1_original.jpeg
CATEGORIES:Wellness Events
LOCATION:James L. Knight Center\, 400 Southeast 2nd Avenue\, Miami\, Florid
 a\, 33131\, United States
X-APPLE-STRUCTURED-LOCATION;VALUE=URI;X-ADDRESS=400 Southeast 2nd Avenue\, 
 Miami\, Florida\, 33131\, United States;X-APPLE-RADIUS=100;X-TITLE=James L
 . Knight Center:geo:0,0
END:VEVENT
BEGIN:VTIMEZONE
TZID:America/New_York
X-LIC-LOCATION:America/New_York
BEGIN:DAYLIGHT
DTSTART:20240310T030000
TZOFFSETFROM:-0500
TZOFFSETTO:-0400
TZNAME:EDT
END:DAYLIGHT
END:VTIMEZONE
END:VCALENDAR