BEGIN:VCALENDAR
VERSION:2.0
PRODID:-//wp-events-plugin.com//7.2.3.1//EN
TZID:America/New_York
X-WR-TIMEZONE:America/New_York
BEGIN:VEVENT
UID:581@breathemiami.us
DTSTART;TZID=America/New_York:20240707T130000
DTEND;TZID=America/New_York:20240707T170000
DTSTAMP:20240624T183931Z
URL:https://breathemiami.us/events/abandoned-pet-rescue-at-bark-at-the-par
 k/
SUMMARY:Abandoned Pet Rescue at Bark at the Park
DESCRIPTION:Join Abandoned Pet Rescue (APR) at loanDepot Park on Sunday\, J
 uly 7th at 1:40 PM\, as the Miami Marlins face off against the Chicago Whi
 te Sox. This event is a fantastic opportunity to support a great cause whi
 le enjoying an exciting baseball game.\n\nEvent Highlights:\n\n 	Support A
 PR's Mission: Even if you can't bring your four-legged friend\, purchasing
  a ticket in the dedicated APR supporter section will directly contribute 
 to APR's efforts. Your support helps rescue\, rehabilitate\, and rehome ab
 andoned and neglected cats and dogs in South Florida.\n 	APR Information T
 able: Visit the APR table inside the stadium to learn more about their mis
 sion\, meet some of the adorable\, adoptable dogs looking for their foreve
 r homes\, and discover ways you can get involved.\n 	Pre-Game Recognition:
  Arrive early to witness APR being honored on the field during the pre-gam
 e ceremonies. It's a wonderful moment to celebrate the hard work and dedic
 ation of the APR team and the impact they've made on the lives of countles
 s animals.\n\nWhy Attend?\n\n 	Support a Worthy Cause: Your participation 
 and ticket purchase directly aid in the rescue and care of abandoned pets 
 in South Florida.\n 	Adoption Opportunities: Meet some of the loving dogs 
 available for adoption and potentially find a new furry family member.\n 	
 Community Engagement: Join fellow animal lovers and supporters of APR in a
  fun\, community-oriented event.\n 	Exciting Baseball Action: Enjoy a thri
 lling game between the Miami Marlins and the Chicago White Sox in a lively
  stadium atmosphere.\n\nDon't miss this chance to support Abandoned Pet Re
 scue while enjoying a day at the ballpark. Your contribution makes a signi
 ficant difference in the lives of countless animals in need. Secure your t
 icket in the APR supporter section and be part of this impactful event. We
  look forward to seeing you there and making a positive change together!\n
 \nGET TICKETS\n
ATTACH;FMTTYPE=image/jpeg:https://breathemiami.us/wp-content/uploads/2024/
 06/Abandoned-Pet-Rescue-at-Bark-at-the-Park.jpg
CATEGORIES:Mindfulness Events,Things To Do
LOCATION:LoanDepot Park\, 501 Marlins Way Miami\, Miami\, Florida\, 33125\,
   FL \, United States
X-APPLE-STRUCTURED-LOCATION;VALUE=URI;X-ADDRESS=501 Marlins Way Miami\, Mia
 mi\, Florida\, 33125\,  FL \, United States;X-APPLE-RADIUS=100;X-TITLE=Loa
 nDepot Park:geo:0,0
END:VEVENT
BEGIN:VTIMEZONE
TZID:America/New_York
X-LIC-LOCATION:America/New_York
BEGIN:DAYLIGHT
DTSTART:20240310T030000
TZOFFSETFROM:-0500
TZOFFSETTO:-0400
TZNAME:EDT
END:DAYLIGHT
END:VTIMEZONE
END:VCALENDAR