BEGIN:VCALENDAR
VERSION:2.0
PRODID:-//wp-events-plugin.com//7.2.3.1//EN
TZID:America/New_York
X-WR-TIMEZONE:America/New_York
BEGIN:VEVENT
UID:274@breathemiami.us
DTSTART;TZID=America/New_York:20240117T100000
DTEND;TZID=America/New_York:20240117T110000
DTSTAMP:20231227T203650Z
URL:https://breathemiami.us/events/a-parents-guide-to-unlocking-your-child
 s-mental-wellness_-miramar/
SUMMARY:A parent’s guide to unlocking your child’s mental wellness_ Mir
 amar
DESCRIPTION:Event Information:\n\n\n\n\n\n\n\n\n\n\n\n\n\nEmpower your chil
 d to rediscover confidence and resilience through three transformative min
 dfulness practices. These exercises\, rooted in the principles of Neuro-Li
 nguistic Programming (NLP)\, are designed to nurture their mental well-bei
 ng and foster a sense of inner strength.\n\n\n\n\n\n\n\n\n\n\n\n\n\nDate a
 nd Time:Wednesday\, January 17\, 2024 · 10 - 11am PST\n\nAbout this event
 :\n\n 	Dear parents\,Are you grappling with the challenges of ensuring you
 r child's mental wellness? Do your days often feel chaotic and overwhelmin
 g? If so\, this workshop is tailored for you. Kris\, a parent who has navi
 gated similar challenges\, has curated this event to share proven techniqu
 es that restore peace and harmony in your child's life.In this 1-hour sess
 ion\, you'll gain:\n\n 	Proven strategies to alleviate your child's stress
 .\n 	Simple techniques to boost your child's confidence.\n 	Mindfulness to
 ols and resources applicable in everyday life.\n\nDiscover the power of mi
 ndfulness\, suitable for all ages. Kris\, passionate about its potential\,
  aims to empower parents with tools to navigate the complexities of the mo
 dern world while fostering confidence\, focus\, and calm in their children
 .\n\nTotal Duration: 1 hour\n\nTicket Information:\n\n 	Focus: Unlocking y
 our child's mental wellness through mindfulness practices.\n 	Content: Pro
 ven strategies\, confidence-building techniques\, and practical mindfulnes
 s tools.\n\n\nGET TICKETS\n\n\nWorkout Session Details:\n\n 	Yoga Style: I
 mmerse in the rejuvenating practice of Deep Stretch Yoga\n 	Additional Pra
 ctices: Experience Meditation\, Sound Therapy featuring Crystal Singing Bo
 wls\, and the profound effects of Chakra Healing\n 	Mindfulness Approach: 
 Infuse your yoga journey with guided meditations and empowering affirmatio
 ns\n\nEssentials to Bring:\n\n 	An open mind and a sense of hope that chan
 ge is possible.\n\nParking Options:\n\n 	As this is a virtual event\, no p
 hysical presence is required. Attend from the comfort of your home via Zoo
 m.\n
ATTACH;FMTTYPE=image/jpeg:https://breathemiami.us/wp-content/uploads/2023/
 12/https___cdn.evbuc_.com_images_562405759_1564946364223_1_original.jpg
CATEGORIES:Things To Do,Wellness Events,Yoga Events
LOCATION:Miramar\, Virtual Via Zoom Miramar\, \, Miami Beach\,\, United Sta
 tes\, 33023 \,  FL \, United States
X-APPLE-STRUCTURED-LOCATION;VALUE=URI;X-ADDRESS=Virtual Via Zoom Miramar\, 
 \, Miami Beach\,\, United States\, 33023 \,  FL \, United States;X-APPLE-R
 ADIUS=100;X-TITLE=Miramar:geo:0,0
END:VEVENT
BEGIN:VTIMEZONE
TZID:America/New_York
X-LIC-LOCATION:America/New_York
BEGIN:STANDARD
DTSTART:20231105T010000
TZOFFSETFROM:-0400
TZOFFSETTO:-0500
TZNAME:EST
END:STANDARD
END:VTIMEZONE
END:VCALENDAR