BEGIN:VCALENDAR
VERSION:2.0
PRODID:-//wp-events-plugin.com//7.2.3.1//EN
TZID:America/New_York
X-WR-TIMEZONE:America/New_York
BEGIN:VEVENT
UID:1408@breathemiami.us
DTSTART;TZID=America/New_York:20251212T000000
DTEND;TZID=America/New_York:20251228T000000
DTSTAMP:20251212T214027Z
URL:https://breathemiami.us/events/a-miami-winter-tradition-the-magic-craf
 t-heart-behind-miami-city-ballets-nutcracker-20251228/
SUMMARY:A Miami Winter Tradition: The Magic\, Craft & Heart Behind The Miam
 i City Ballet and George Balanchine's The Nutcracker®
DESCRIPTION:Growing up in Miami\, winter has always been more of a feeling 
 than a season. We didn’t wake up to snow or spend our holidays bundled i
 n coats — but we had something just as magical: The Miami City Ballet an
 d George Balanchine's The Nutcracker®.\n\nFor so many of us\, this was th
 e moment the holidays felt real. The sound of Tchaikovsky filling the thea
 ter\, the excitement in the lobby\, the warmth of families gathering year 
 after year — it became Miami’s own version of winter wonder.\n\nAnd wh
 ile the production glitters with nostalgia and beauty\, its magic is built
  on something deeper: artistry\, craft\, and the incredible physical disci
 pline of the dancers who bring it to life.\n\n[video width="640" height="3
 60" mp4="https://breathemiami.us/wp-content/uploads/2025/12/Nutcracker-Lan
 d-of-Sweets-2024.mp4"][/video]\n\n\nGET TICKETS\n\nArtistry That Brings th
 e Story to Life\nThe heart of Miami City Ballet’s Nutcracker is its stor
 ytelling. The dancers aren’t just performing choreography — they’re 
 shaping emotion through movement. A gesture\, a pause\, the way a dancer r
 ises into a lift… it all blends together to create moments that feel ali
 ve.\n\nMCB’s Balanchine lineage is present in the clarity of the movemen
 t\, the musicality\, and the fluidity that makes the performance feel both
  timeless and fresh. Even if you’ve seen The Nutcracker many times\, thi
 s production has a way of surprising you with something new.\nThe Athletic
 ism Behind the Grace\nBallet looks effortless\, but the physical demands a
 re immense. Miami City Ballet dancers train like elite athletes — long r
 ehearsal days\, strength training\, recovery work — all so the audience 
 can experience something that appears light and natural.\n\nFull-length pr
 oductions like The Nutcracker require stamina\, precision\, and an extraor
 dinary level of control. The dancers make it look easy\, but every leap\, 
 turn\, and transition is built on years of discipline and dedication.\n\nT
 his is where ballet becomes more than performance — it becomes a fusion 
 of art and athletic craft.\n\n[gallery size="medium" link="file" ids="1044
 9\,10447\,10444"]\nA Production with Miami Heart\nMiami City Ballet’s Nu
 tcracker has become one of the city’s most beloved cultural traditions 
 — something locals return to year after year because it feels like home.
 \n\nCarolina M. from Coral Gables shared\,\n\n“I’ve lived in Miami my 
 entire life\, and The Nutcracker is the one thing that always makes the ho
 lidays feel real here.”\n\nFor others\, it’s a tradition passed down t
 hrough generations.\n\nJulian R. from Kendall said\,\n\n“I used to go wi
 th my mom\, and now I’m taking my daughter. Watching her eyes light up
 … that’s everything.”\n\nThis is what makes MCB’s Nutcracker so un
 iquely Miami: it blends holiday nostalgia with the warmth\, color\, and he
 art that define our city.\nHistory\, Craft\, and the Visual Magic of MCB
 ’s Nutcracker\nMiami City Ballet’s current production — reimagined i
 n 2017 by Isabel and Ruben Toledo — gives the classic story a South-Flor
 ida-infused design. The vibrant sets\, bold colors\, and whimsical costume
 s reflect our city’s personality while honoring George Balanchine’s ic
 onic choreography.\n\nEach year\, over 100 dancers\, students\, musicians\
 , and crew members come together to build this world from the ground up. C
 ostumes are hand-detailed and restored\, lighting is designed to shift the
  mood like a dream\, and rehearsals unfold for months before the curtain r
 ises.\n\nIt’s a production built with passion — and you can feel that 
 from the audience.\n\n[gallery link="file" size="medium" ids="10446\,10445
 \,10442"]\nWhat Audiences Can Expect This Season\nThe 2025–26 season of 
 The Nutcracker\, running December 12–28\, 2025 at the Adrienne Arsht Cen
 ter\, brings new artistic depth while preserving what Miami audiences love
  most.\nHere’s what to look forward to:\n• A stunning cast of returnin
 g favorites and rising new dancers\n\n• Fresh nuances in classic roles\,
  adding new layers to familiar moments\n\n• Live orchestra performances 
 that bring Tchaikovsky’s score to life\n\n• Lush costumes and imaginat
 ive sets inspired by Miami’s vibrancy\n\n• The iconic snow scene that 
 still feels like pure magic\n\n• The Land of Sweets pre-show experience\
 , included with every ticket — an immersive holiday moment for all ages\
 n\nWhether you’ve watched this production since childhood or you’re ex
 periencing it for the first time\, the magic is just as powerful.\nWhy It 
 Still Matters\nIn a city that’s always evolving\, this tradition remains
  something steady — a moment that brings people together\, connects fami
 lies\, and reminds us to slow down and feel wonder.\n\nMiami City Ballet g
 ives us a version of winter that’s ours — warm\, colorful\, full of mu
 sic and movement. When the lights dim and the first notes begin\, you’re
  reminded why this production has meant so much to Miami for so long.\n\nI
 t may not snow here\, but The Nutcracker is proof that winter magic has al
 ways belonged to Miami\, too.\n\n[gallery link="file" size="medium" ids="1
 0443\,10441\,10440"]\n🎟️ Want to Experience the Magic?\nTickets and p
 erformance dates are available through Miami City Ballet.\n\nGET TICKETS\n
ATTACH;FMTTYPE=image/jpeg:https://breathemiami.us/wp-content/uploads/2025/
 12/a_miami_winter_tradition_the_magic_craft_heart_behind_miami_city_ballet
 _nutcracker.jpg
CATEGORIES:Featured Events,Music,Things To Do
LOCATION:Adrienne Arsht Center for the Performing Arts of Miami-Dade County
 \, 1300 Biscayne Blvd\, Miami\, Florida\, 33172\, FL\, United States
X-APPLE-STRUCTURED-LOCATION;VALUE=URI;X-ADDRESS=1300 Biscayne Blvd\, Miami\
 , Florida\, 33172\, FL\, United States;X-APPLE-RADIUS=100;X-TITLE=Adrienne
  Arsht Center for the Performing Arts of Miami-Dade County:geo:0,0
END:VEVENT
BEGIN:VTIMEZONE
TZID:America/New_York
X-LIC-LOCATION:America/New_York
BEGIN:STANDARD
DTSTART:20251102T010000
TZOFFSETFROM:-0400
TZOFFSETTO:-0500
TZNAME:EST
END:STANDARD
END:VTIMEZONE
END:VCALENDAR