BEGIN:VCALENDAR
VERSION:2.0
PRODID:-//wp-events-plugin.com//7.2.3.1//EN
TZID:America/New_York
X-WR-TIMEZONE:America/New_York
BEGIN:VEVENT
UID:282@breathemiami.us
DTSTART;TZID=America/New_York:20240115T040000
DTEND;TZID=America/New_York:20240115T050000
DTSTAMP:20240304T030809Z
URL:https://breathemiami.us/events/a-lifestyle-medicine-revolution/
SUMMARY:Take Control of YOUR Health: A Lifestyle Medicine Revolution
DESCRIPTION:Event Information:\n\n\n\n\n\n\n\n\n\n\n\n\n\nGet prepared for 
 a groundbreaking online experience with "Take Control of YOUR Health: A Li
 festyle Medicine Revolution." In this transformative event\, we leverage t
 he power of lifestyle medicine to empower you to revolutionize your approa
 ch to well-being. Join us as we embark on a journey to redefine health and
  vitality\, offering you the tools and insights needed to make lasting cha
 nges in your life. This event isn't just about information\; it's about ca
 talyzing a revolution in your health\, putting you firmly in control of yo
 ur well-being. Get ready to transform your health narrative and embark on 
 a revolutionary path to a healthier\, more vibrant you.\n\n\n\n\n\n\n\n\n\
 n\n\n\n\nDate and Time:Monday\, January 15\, 2024 · 4 - 5am PKT\n\nAbout 
 this event:\n\n 	Join us for an empowering online event focused on Lifesty
 le Medicine\, where you will gain insights into reclaiming your health and
  well-being. Discover the transformative power of lifestyle choices and th
 eir profound impact on overall health. Expert speakers will provide practi
 cal tips and evidence-based strategies to achieve optimal health\, whether
  you aim to lose weight\, prevent chronic diseases\, or enhance well-being
 .Meet Dr. LaTaya De Jesus\, a dynamic force in healthcare\, holding a doct
 orate in nursing practice and triple board certification in family practic
 e and lifestyle medicine. She is a visionary in holistic healing\, leading
  Eden Health Restored\, a sanctuary merging the art of healing with modern
  medicine.\n\nTotal Duration: 1\n\nTicket Information:\n\n 	Refund Policy:
  Contact the organizer for refunds\; Eventbrite's fee is nonrefundable.\n\
 n\nGET TICKETS\n\n\nWorkout Session Details:\n\n 	The event focuses on lif
 estyle medicine\, featuring expert speakers sharing practical tips and evi
 dence-based strategies.\n\nEssentials to Bring:\n\n 	No specific informati
 on provided. Participants may need a device to access the online event.\n\
 nParking Options:\n\n 	Not applicable\, as the event is online.\n
ATTACH;FMTTYPE=image/jpeg:https://breathemiami.us/wp-content/uploads/2023/
 12/https___cdn.evbuc_.com_images_639044139_1883636568383_1_original.jpg
CATEGORIES:Wellness Events
END:VEVENT
BEGIN:VTIMEZONE
TZID:America/New_York
X-LIC-LOCATION:America/New_York
BEGIN:STANDARD
DTSTART:20231105T010000
TZOFFSETFROM:-0400
TZOFFSETTO:-0500
TZNAME:EST
END:STANDARD
END:VTIMEZONE
END:VCALENDAR