BEGIN:VCALENDAR
VERSION:2.0
PRODID:-//wp-events-plugin.com//7.2.3.1//EN
TZID:America/New_York
X-WR-TIMEZONE:America/New_York
BEGIN:VEVENT
UID:703@breathemiami.us
DTSTART;TZID=America/New_York:20240831T190000
DTEND;TZID=America/New_York:20240831T210000
DTSTAMP:20240806T133807Z
URL:https://breathemiami.us/events/a-balanced-man-sacred-mens-circle/
SUMMARY:A Balanced Man - Sacred Men's Circle
DESCRIPTION:In a world often divided by labels and stereotypes\, "A Balance
 d Man" represents a state of being that transcends the dualities of mascul
 ine and feminine energies. It is an embodiment of the full divine expressi
 on of self\, characterized by truth\, love\, gratitude\, well-being\, abun
 dance\, clarity\, and forgiveness. A balanced man embraces his connection 
 with all living things\, living consciously in harmony and fairness.\n\nAc
 hieving this balance requires unwavering commitment and a focused explorat
 ion of one's inner self. This journey involves honest self-reflection\, he
 aling\, and mastery over one's thoughts and actions\, thereby enhancing ho
 w one interacts with the world. It begins with acknowledging one's current
  state\, declaring a personal life manifesto\, and identifying energies th
 at hinder progress toward this ideal.\n\nA balanced man shows up whole\, a
 uthentic\, and present in every moment\, embodying his true self.\n\nWhy J
 oin the Sacred Men's Circle?\n\nSafe Space for Growth: The Sacred Men's Ci
 rcle provides a supportive environment for men to work together on overcom
 ing trauma\, societal conditioning\, self-sabotaging thoughts\, and limiti
 ng beliefs.\n\nPersonal Evolution: Through shared experiences and collecti
 ve wisdom\, participants grow and evolve\, cultivating a balanced way of b
 eing and stepping into their authentic selves.\n\nHolistic Well-Being: Eng
 age in practices that promote emotional\, mental\, and spiritual well-bein
 g\, fostering a sense of inner peace and harmony.\n\nCommunity Support: Bu
 ild meaningful connections with like-minded men who are also on a journey 
 of self-discovery and transformation.\n\nEmpowerment: Gain the tools and i
 nsights needed to live consciously and harmoniously\, enhancing your abili
 ty to show up authentically in all areas of life.\n\nJoin us in the Sacred
  Men's Circle to embark on a journey of self-discovery\, healing\, and emp
 owerment. Together\, we will uncover the path to becoming a balanced man\,
  living in harmony with ourselves and the world around us.\n\nGET TICKETS\
 n
ATTACH;FMTTYPE=image/jpeg:https://breathemiami.us/wp-content/uploads/2024/
 08/A-Balanced-Man-Sacred-Mens-Circle.jpg
CATEGORIES:Mindfulness Events,Things To Do,Wellness Events
LOCATION:9010 W Commercial Blvd\, 9010 West Commercial Boulevard Sunrise\, 
 Miami\,  United States\, 33351\, FL \, United States
X-APPLE-STRUCTURED-LOCATION;VALUE=URI;X-ADDRESS=9010 West Commercial Boulev
 ard Sunrise\, Miami\,  United States\, 33351\, FL \, United States;X-APPLE
 -RADIUS=100;X-TITLE=9010 W Commercial Blvd:geo:0,0
END:VEVENT
BEGIN:VTIMEZONE
TZID:America/New_York
X-LIC-LOCATION:America/New_York
BEGIN:DAYLIGHT
DTSTART:20240310T030000
TZOFFSETFROM:-0500
TZOFFSETTO:-0400
TZNAME:EDT
END:DAYLIGHT
END:VTIMEZONE
END:VCALENDAR