BEGIN:VCALENDAR
VERSION:2.0
PRODID:-//wp-events-plugin.com//7.2.3.1//EN
TZID:America/New_York
X-WR-TIMEZONE:America/New_York
BEGIN:VEVENT
UID:1059@breathemiami.us
DTSTART;TZID=America/New_York:20241026T200000
DTEND;TZID=America/New_York:20241027T020000
DTSTAMP:20241013T081747Z
URL:https://breathemiami.us/events/9th-annual-mask-off-halloween-costume-p
 arty-wynwood/
SUMMARY:9th Annual Mask Off | Halloween Costume Party| Wynwood !!
DESCRIPTION:Socialxchange proudly presents the 9th Annual Mask Off\, an exh
 ilarating Halloween costume party set to light up the Wynwood area! This m
 uch-anticipated event invites revelers to unleash their creativity and emb
 race the spirit of Halloween through imaginative costumes and festive fun.
 \n\nTaking place in one of Miami's most vibrant neighborhoods\, the party 
 promises an unforgettable night filled with thrilling entertainment\, elec
 trifying music\, and a lively atmosphere that encourages guests to fully e
 xpress themselves. Whether attendees choose to don elaborate costumes or o
 pt for playful and whimsical attire\, the Mask Off party is a celebration 
 of individuality and artistry.\n\nAs part of the festivities\, guests can 
 expect exciting activities throughout the night\, including a costume cont
 est with fantastic prizes\, allowing participants to showcase their most i
 nventive looks. With a backdrop of Wynwood's stunning street art and dynam
 ic ambiance\, this event will surely create lasting memories.\n\nSocialxch
 ange aims to create a welcoming and inclusive environment\, making it a pe
 rfect gathering for friends\, families\, and fellow Halloween enthusiasts.
  Mark your calendars for this year's spooktacular celebration\, and get re
 ady to join the fun at the 9th Annual Mask Off Halloween Costume Party!\n\
 nGET TICKETS\n
ATTACH;FMTTYPE=image/jpeg:https://breathemiami.us/wp-content/uploads/2024/
 10/9th-Annual-Mask-Off-Halloween-Costume-Party-Wynwood.jpg
CATEGORIES:Things To Do
LOCATION:FREEHOLD Studios\, 2219 Northwest 2nd Avenue\, Miami\, Florida\, 3
 3127 \, FL\, United States
X-APPLE-STRUCTURED-LOCATION;VALUE=URI;X-ADDRESS=2219 Northwest 2nd Avenue\,
  Miami\, Florida\, 33127 \, FL\, United States;X-APPLE-RADIUS=100;X-TITLE=
 FREEHOLD Studios:geo:0,0
END:VEVENT
BEGIN:VTIMEZONE
TZID:America/New_York
X-LIC-LOCATION:America/New_York
BEGIN:DAYLIGHT
DTSTART:20240310T030000
TZOFFSETFROM:-0500
TZOFFSETTO:-0400
TZNAME:EDT
END:DAYLIGHT
END:VTIMEZONE
END:VCALENDAR