BEGIN:VCALENDAR
VERSION:2.0
PRODID:-//wp-events-plugin.com//7.2.3.1//EN
TZID:America/New_York
X-WR-TIMEZONE:America/New_York
BEGIN:VEVENT
UID:1104@breathemiami.us
DTSTART;TZID=America/New_York:20241024T100000
DTEND;TZID=America/New_York:20241024T180000
DTSTAMP:20241018T050209Z
URL:https://breathemiami.us/events/8th-annual-real-estate-hotel-investment
 -forum-by-the-kabani-hotel-group/
SUMMARY:8th Annual Real Estate Hotel Investment Forum by The Kabani Hotel G
 roup
DESCRIPTION:The 8th Annual Hotel Investment Forum Miami stands as a premier
  gathering for key players across the hotel and hospitality sector\, offer
 ing an unparalleled opportunity for networking\, strategic discussions\, a
 nd industry insights. This year’s theme\, "Time is Now\," reflects the u
 rgency of capitalizing on the rapidly shifting hospitality landscape\, as 
 the forum provides a platform for critical conversations around future gro
 wth\, investment strategies\, and market trends.\n\nEvent Highlights: The 
 forum brings together a diverse group of stakeholders including hotel inve
 stors\, industry leaders\, franchise executives\, lenders\, and profession
 als\, creating an ecosystem where knowledge is shared\, partnerships are f
 ormed\, and deals are made. It's the ultimate event for those looking to s
 tay ahead of the curve in the evolving world of hospitality.\n\nLuncheon F
 orum Topics:\n\n 	National &amp\; Florida Hospitality Outlook: Gain a comp
 rehensive overview of market performance\, key trends\, and projections\, 
 with a special focus on Florida as a hospitality hub.\n 	Managing Costs to
  Enhance Profitability: Strategies to navigate rising costs while maintain
 ing margins in an increasingly competitive landscape.\n 	Capital Market Av
 ailability: A deep dive into the availability of financing options\, lende
 r perspectives\, and how to secure funding for future investments.\n 	The 
 Changing Landscape of Travel: Explore how shifts in consumer preferences\,
  technology\, and sustainability are reshaping the travel industry.\n 	Eme
 rging Market Opportunities: Identifying new markets and investment hotspot
 s ripe for growth in the hospitality sector.\n 	The Impact of Geopolitics 
 and the Presidential Election: Analyze how geopolitical factors and upcomi
 ng elections may influence hospitality investments and business decisions.
 \n\nThis forum is designed for professionals who want to connect with the 
 leading minds in the hotel industry\, exchange ideas\, and gain actionable
  insights into the future of hotel investment. Whether you are a seasoned 
 investor or looking to make your mark\, this event offers the tools and ne
 tworks you need to thrive.\n\nDon't miss the chance to seize new opportuni
 ties in the hospitality sector—the time is now!\n\nGET TICKETS\n
ATTACH;FMTTYPE=image/jpeg:https://breathemiami.us/wp-content/uploads/2024/
 10/8th-Annual-Real-Estate-Hotel-Investment-Forum-by-The-Kabani-Hotel-Group
 .jpg
CATEGORIES:Things To Do
LOCATION:JW Marriott Marquis Miami\, 255 Biscayne Boulevard Way\, Miami\, F
 lorida\, 33131\, FL\, United States
X-APPLE-STRUCTURED-LOCATION;VALUE=URI;X-ADDRESS=255 Biscayne Boulevard Way\
 , Miami\, Florida\, 33131\, FL\, United States;X-APPLE-RADIUS=100;X-TITLE=
 JW Marriott Marquis Miami:geo:0,0
END:VEVENT
BEGIN:VTIMEZONE
TZID:America/New_York
X-LIC-LOCATION:America/New_York
BEGIN:DAYLIGHT
DTSTART:20240310T030000
TZOFFSETFROM:-0500
TZOFFSETTO:-0400
TZNAME:EDT
END:DAYLIGHT
END:VTIMEZONE
END:VCALENDAR