BEGIN:VCALENDAR
VERSION:2.0
PRODID:-//wp-events-plugin.com//7.2.3.1//EN
TZID:America/New_York
X-WR-TIMEZONE:America/New_York
BEGIN:VEVENT
UID:138@breathemiami.us
DTSTART;TZID=America/New_York:20231028T110000
DTEND;TZID=America/New_York:20231028T160000
DTSTAMP:20231014T202633Z
URL:https://breathemiami.us/events/7th-annual-spooky-science-monster-mash-
 presented-by-the-miami-dda/
SUMMARY:7Th Annual Spooky Science Monster Mash Presented By The Miami DDA
DESCRIPTION:Immerse yourself in a spine-tingling scientific odyssey this Sa
 turday\, October 28th\, as we invite you to partake in an unforgettable ad
 venture. Our journey will encompass everything from mind-boggling chemistr
 y reactions to captivating and somewhat eerie experiments conducted within
  the mysterious confines of the Mad Science Lab. Throughout the day\, you'
 ll have the opportunity to delve into hands-on scientific exploration that
 's so exhilarating\, it might just send shivers down your spine.\n\nIn add
 ition to these mesmerizing experiments\, you'll have the privilege of meet
 ing esteemed scientists hailing from local universities and professional o
 rganizations. Notably\, the South Florida Chapter of the American Chemical
  Society will be joining us in commemorating National Chemistry Week. They
 'll be on hand to share their knowledge and enthusiasm for the world of ch
 emistry\, further enriching your experience.\n\nWe are delighted to announ
 ce the 7th Annual Spooky Science Monster Mash\, made possible through the 
 generous support of the Miami Downtown Development Authority. Our event is
  also fortunate to have the kind-hearted backing of Casa Smiles Pediatric 
 Dentistry &amp\; Orthodontics\, Kiddos Magazine\, Thermal Concepts Inc.\, 
 and Jackson Health Systems\, who have all joined hands to make this extrao
 rdinary event a reality.\n\nBest of all\, you can dive into the Spooky Sci
 ence Monster Mash programming at absolutely no cost\, provided you've purc
 hased admission to our museum. This ensures that everyone\, young and old\
 , can participate in this thrilling scientific extravaganza without any ba
 rriers.\n\nGet Tickets!
ATTACH;FMTTYPE=image/jpeg:https://breathemiami.us/wp-content/uploads/2023/
 10/7th-Annual-Spooky-Science-Monster-Mash-Website-Image-1920x1080-1.jpg
LOCATION:Phillip and Patricia Frost Museum of Science\, 1101 Biscayne Blvd\
 , Miami\, Florida\, FL 33132\, United States
X-APPLE-STRUCTURED-LOCATION;VALUE=URI;X-ADDRESS=1101 Biscayne Blvd\, Miami\
 , Florida\, FL 33132\, United States;X-APPLE-RADIUS=100;X-TITLE=Phillip an
 d Patricia Frost Museum of Science:geo:0,0
END:VEVENT
BEGIN:VTIMEZONE
TZID:America/New_York
X-LIC-LOCATION:America/New_York
BEGIN:DAYLIGHT
DTSTART:20230312T030000
TZOFFSETFROM:-0500
TZOFFSETTO:-0400
TZNAME:EDT
END:DAYLIGHT
END:VTIMEZONE
END:VCALENDAR