BEGIN:VCALENDAR
VERSION:2.0
PRODID:-//wp-events-plugin.com//7.2.3.1//EN
TZID:America/New_York
X-WR-TIMEZONE:America/New_York
BEGIN:VEVENT
UID:705@breathemiami.us
DTSTART;TZID=America/New_York:20240818T063000
DTEND;TZID=America/New_York:20240818T100000
DTSTAMP:20240810T154917Z
URL:https://breathemiami.us/events/7-year-stride-a-5k-10k-run-walk-w-tres-
 pinas/
SUMMARY:7 Year Stride: A 5K/10K Run & Walk w/ Tres Piñas
DESCRIPTION:Celebrate seven years of Tres Piñas with a spirited 5K/10K run
  and walk event designed for the entire community. This special anniversar
 y run is your chance to lace up your sneakers and join us in marking this 
 milestone.\n\nStarting and finishing at the Tres Piñas store\, this event
  offers both 5K and 10K options\, making it perfect for runners and walker
 s of all levels. Whether you’re a seasoned runner looking to set a new p
 ersonal best or a beginner taking your first strides\, there’s a pace gr
 oup for everyone.\n\nWhat to Expect:\n\n 	Guided Run: Experienced leaders 
 will guide pace groups\, ensuring that everyone has a comfortable and enjo
 yable experience.\n 	Exclusive Offers: Be the first to shop our new 7 Year
  Anniversary collection and take advantage of our special Buy 2\, Get 1 fr
 ee promotion on selected shorts and bras.\n\nWhy You Should Join:\n\nThis 
 event is more than just a run—it's a celebration of the community that h
 as supported Tres Piñas over the past seven years. It's an opportunity to
  connect with fellow runners\, enjoy a morning of fitness\, and take part 
 in the vibrant energy that has made Tres Piñas a staple in Miami.\n\nHow 
 to Get Involved:\n\nSimply register and show up on August 18th\, ready to 
 run\, walk\, and celebrate. With check-in starting at 6:30 AM\, you’ll h
 ave plenty of time to get warmed up and ready to hit the pavement. After t
 he run\, stick around to explore our anniversary collection and enjoy excl
 usive deals.\n\nWe look forward to seeing you there—let’s make this 7-
 year stride one to remember!\n\nGET TICKETS\n
ATTACH;FMTTYPE=image/jpeg:https://breathemiami.us/wp-content/uploads/2024/
 08/7-Year-Stride-A-5K10K-Run-Walk-wTres-Pinas.jpg
CATEGORIES:Mindfulness Events,Sports &amp; Fitness Events,Things To
 Do,Wellness Events
LOCATION:2920 NW 5th Ave\, 2920 Northwest 5th Avenue Miami\, Miami\, Florid
 a\, 33127\, FL\, United States
X-APPLE-STRUCTURED-LOCATION;VALUE=URI;X-ADDRESS=2920 Northwest 5th Avenue M
 iami\, Miami\, Florida\, 33127\, FL\, United States;X-APPLE-RADIUS=100;X-T
 ITLE=2920 NW 5th Ave:geo:0,0
END:VEVENT
BEGIN:VTIMEZONE
TZID:America/New_York
X-LIC-LOCATION:America/New_York
BEGIN:DAYLIGHT
DTSTART:20240310T030000
TZOFFSETFROM:-0500
TZOFFSETTO:-0400
TZNAME:EDT
END:DAYLIGHT
END:VTIMEZONE
END:VCALENDAR