BEGIN:VCALENDAR
VERSION:2.0
PRODID:-//wp-events-plugin.com//7.2.3.1//EN
TZID:America/New_York
X-WR-TIMEZONE:America/New_York
BEGIN:VEVENT
UID:666@breathemiami.us
DTSTART;TZID=America/New_York:20240812T080000
DTEND;TZID=America/New_York:20240812T160000
DTSTAMP:20240804T095439Z
URL:https://breathemiami.us/events/60-hour-yin-yoga-teacher-training-with-
 jo-phee/
SUMMARY:60-Hour Yin Yoga Teacher Training with Jo Phee
DESCRIPTION:Embark on an enriching journey into the world of Yin Yoga with 
 Jo Phee\, a renowned expert in the field\, in this comprehensive 60-hour t
 eacher training program. This immersive training is designed for those loo
 king to deepen their understanding of Yin Yoga\, Chinese Medicine\, and Hi
 p Anatomy\, offering a profound exploration of these interconnected discip
 lines.\n\nLocation:\nMiami Life Center\n\nTraining Topics Include:\n\nChin
 ese Medicine:\n\n 	Foundations: Explore the history of Chinese Medicine\, 
 the Four Great Classic Texts of TCM\, and fundamental principles including
  Yin and Yang philosophy.\n 	In-Depth Concepts: Delve into the Eight Guidi
 ng Criteria\, the Nine Body Constitutions\, the Three Treasures\, and the 
 Four Vital Substances.\n 	Clinical Applications: Study Qi theory\, types a
 nd dysfunctions of Qi\, the Meridian System\, and the Visceral System. Lea
 rn about Meridian Circuit Flow\, pathways\, the Meridian Clock\, and Hand 
 and Foot Meridian Points.\n 	Advanced Practices: Understand Myofascial Mer
 idians\, Meridian &amp\; Chakra connections\, and techniques like Guasha T
 reatment\, Meridian Tapping &amp\; Palpation\, and dietary considerations 
 based on Chinese Medicine.\n\nMeridian Yin Yoga:\n\n 	Theoretical Framewor
 k: Gain insights into Yin Yoga theory and practice\, including the Yin Yog
 a Sutras\, the Creep Effect\, and the Stress Relaxation Response.\n 	Pract
 ice Focus: Study the Phase Change of Fascia\, target areas\, rebound effec
 ts\, classic Yin poses\, variations\, props usage\, and safety.\n 	Teachin
 g Methodology: Learn how to craft themes and sequences\, understand the 4 
 stages of a Yin pose\, the three parts of a Yin class\, and the energy cur
 ve of a class. Integrate Meridian Theory into your Yin Yoga practice.\n\nH
 ip Anatomy:\n\n 	Model and Mechanics: Examine Paul Grilley’s 14-10-7 Mod
 el\, bony landmarks\, and muscle anatomy. Explore bone variations\, tensio
 n and compression theory\, and biomechanics of the hip.\n 	Practical Insig
 hts: Participate in an anatomy lab for human body analysis and address hip
  dysfunctions and their treatments.\n\nJoin Us: This training provides a t
 horough understanding of Yin Yoga\, enriched with knowledge from Chinese M
 edicine and detailed anatomy\, making it ideal for yoga teachers\, practit
 ioners\, and enthusiasts eager to enhance their practice and teaching.\n\n
 GET TICKETS\n
ATTACH;FMTTYPE=image/jpeg:https://breathemiami.us/wp-content/uploads/2024/
 08/60-Hour-Yin-Yoga-Teacher-Training-with-Jo-Phee.jpg
CATEGORIES:Mindfulness Events,Things To Do,Wellness Events,Yoga Events
LOCATION:Miami Yoga Garage\, 1940 NW Miami Ct Miami\, Miami\, FL\, 33136\, 
 Florida\, United States
X-APPLE-STRUCTURED-LOCATION;VALUE=URI;X-ADDRESS=1940 NW Miami Ct Miami\, Mi
 ami\, FL\, 33136\, Florida\, United States;X-APPLE-RADIUS=100;X-TITLE=Miam
 i Yoga Garage:geo:0,0
END:VEVENT
BEGIN:VTIMEZONE
TZID:America/New_York
X-LIC-LOCATION:America/New_York
BEGIN:DAYLIGHT
DTSTART:20240310T030000
TZOFFSETFROM:-0500
TZOFFSETTO:-0400
TZNAME:EDT
END:DAYLIGHT
END:VTIMEZONE
END:VCALENDAR