BEGIN:VCALENDAR
VERSION:2.0
PRODID:-//wp-events-plugin.com//7.2.3.1//EN
TZID:America/New_York
X-WR-TIMEZONE:America/New_York
BEGIN:VEVENT
UID:1168@breathemiami.us
DTSTART;TZID=America/New_York:20241124T093000
DTEND;TZID=America/New_York:20241124T103000
DTSTAMP:20241023T133554Z
URL:https://breathemiami.us/events/5-vizcaya-village-wellness-yoga-tai-chi
 -zumba-and-more/
SUMMARY:$5 Vizcaya Village Wellness | Yoga\, Tai Chi\, Zumba and More
DESCRIPTION:Vizcaya Village invites everyone to immerse themselves in a rej
 uvenating wellness experience beneath the radiant Miami sun. Every month\,
  the first three Sundays are dedicated to an all-level outdoor yoga class 
 that combines invigorating exercise with soulful meditation\, skillfully g
 uided by the experienced instructors from Hanu Yoga Studio.\n\nThe final S
 unday of each month introduces a diverse wellness class on rotation\, offe
 ring a range of activities from Tai Chi and Zumba to sound bowl meditation
  and other enriching options. Attendees are encouraged to check the latest
  schedule for updated details each month.\n\nImportant Reminders:\n\n 	Reg
 istration: Mandatory registration through Eventbrite secures a spot in thi
 s tranquil oasis.\n 	Informed Consent: All participants must complete an I
 nformed Consent Form during registration\, emphasizing safety and well-bei
 ng.\n 	Dress Comfortably: Participants should wear comfortable clothing su
 itable for outdoor activities\, taking advantage of Miami's beautiful weat
 her.\n 	Essentials to Bring: Attendees are advised to bring their own yoga
  mat and a refillable water bottle to stay hydrated during the session.\n\
 nEach class lasts approximately 60 minutes\, beginning at 9:30 a.m.\, crea
 ting a peaceful and mindful atmosphere for the start of a Sunday.\n\nSpeci
 al Discount: Participants can enjoy a special $5 off the same day’s dayt
 ime admission to the east side of the prestigious Vizcaya Museum and Garde
 ns. Instructions for redeeming this exclusive discount will be provided at
  the end of the class.\n\nLimited Spaces for an Intimate Experience:\nWith
  limited availability\, this class ensures a personalized experience where
  participants receive individual attention and guidance. This is an excell
 ent opportunity to enhance overall well-being and explore the boundless po
 tential of both body and mind.\n\nQuestions? For inquiries\, attendees can
  refer to the FAQs below\, and if further assistance is needed\, they can 
 reach out via email at vizcayainformation@vizcaya.org.\n\nAbout Our Wellne
 ss Partner: Hanu Yoga\nLocated in the heart of Miami Beach\, Hanu Yoga Stu
 dio is more than just a place to practice yoga\; it is a vibrant community
  committed to promoting wellness\, holistic health\, diversity\, and empow
 erment. The studio believes in the transformative power of yoga\, which ex
 tends beyond physical postures to create a harmonious balance of mind\, bo
 dy\, and spirit. Hanu Yoga emphasizes mindful movement\, breathwork\, and 
 meditation\, providing a nurturing environment for personal growth\, heali
 ng\, and transformation.\n\nGET TICKETS\n
ATTACH;FMTTYPE=image/jpeg:https://breathemiami.us/wp-content/uploads/2024/
 10/5-Vizcaya-Village-Wellness-Yoga-Tai-Chi-Zumba-and-More-1.jpg
CATEGORIES:Wellness Events
LOCATION:Vizcaya Village Farmers Market\, 3250 South Miami Avenue Miami\, \
 , Avenue Miami\, USA\, 33129\,  FL \, United States
X-APPLE-STRUCTURED-LOCATION;VALUE=URI;X-ADDRESS=3250 South Miami Avenue Mia
 mi\, \, Avenue Miami\, USA\, 33129\,  FL \, United States;X-APPLE-RADIUS=1
 00;X-TITLE=Vizcaya Village Farmers Market:geo:0,0
END:VEVENT
BEGIN:VTIMEZONE
TZID:America/New_York
X-LIC-LOCATION:America/New_York
BEGIN:STANDARD
DTSTART:20241103T010000
TZOFFSETFROM:-0400
TZOFFSETTO:-0500
TZNAME:EST
END:STANDARD
END:VTIMEZONE
END:VCALENDAR