BEGIN:VCALENDAR
VERSION:2.0
PRODID:-//wp-events-plugin.com//7.2.3.1//EN
TZID:America/New_York
X-WR-TIMEZONE:America/New_York
BEGIN:VEVENT
UID:587@breathemiami.us
DTSTART;TZID=America/New_York:20240704T000000
DTEND;TZID=America/New_York:20240705T010000
DTSTAMP:20240625T054038Z
URL:https://breathemiami.us/events/4th-of-july-celebration-at-regatta-grov
 e/
SUMMARY:4th of July Celebration at Regatta Grove
DESCRIPTION:Celebrate Independence Day at Regatta Grove on Thursday\, July 
 4th\, with a day of tropical bliss and patriotic spirit! Nestled on Coconu
 t Grove's stunning waterfront\, Regatta Grove offers the perfect setting f
 or an unforgettable celebration.\n\nEvent Highlights:\n\n 	Tropical Drinks
 : Sip on a delightful array of tropical beverages that will transport your
  taste buds to paradise. Enjoy exotic flavors that perfectly complement th
 e festive atmosphere.\n 	Curated Food Selection: Indulge in a diverse and 
 delicious array of curated dishes that cater to all tastes. From savory to
  sweet\, the culinary offerings promise a journey of flavors as vibrant as
  the day itself.\n 	Live Music: Groove to the rhythm of live music that wi
 ll keep the energy high and spirits soaring. Enjoy performances that set t
 he perfect tone for a lively and memorable celebration.\n\nJoin us for a d
 ay filled with great company\, fantastic food and drinks\, and the joyous 
 spirit of Independence Day. Celebrate the 4th of July with tropical drinks
 \, delicious food\, and live music against the picturesque backdrop of Coc
 onut Grove’s waterfront. Don't miss this opportunity to create lasting m
 emories and enjoy a vibrant celebration at Regatta Grove!\n\nGET TICKETS\n
ATTACH;FMTTYPE=image/jpeg:https://breathemiami.us/wp-content/uploads/2024/
 06/4th-of-July-Celebration-at-Regatta-Grove.jpg
CATEGORIES:Food &amp; Drink Events,Things To Do
LOCATION:Regatta Grove\, 3415 Pan American Drive Miami\, Miami\, Florida\, 
 33139\, FL \, United States
X-APPLE-STRUCTURED-LOCATION;VALUE=URI;X-ADDRESS=3415 Pan American Drive Mia
 mi\, Miami\, Florida\, 33139\, FL \, United States;X-APPLE-RADIUS=100;X-TI
 TLE=Regatta Grove:geo:0,0
END:VEVENT
BEGIN:VTIMEZONE
TZID:America/New_York
X-LIC-LOCATION:America/New_York
BEGIN:DAYLIGHT
DTSTART:20240310T030000
TZOFFSETFROM:-0500
TZOFFSETTO:-0400
TZNAME:EDT
END:DAYLIGHT
END:VTIMEZONE
END:VCALENDAR