BEGIN:VCALENDAR
VERSION:2.0
PRODID:-//wp-events-plugin.com//7.2.3.1//EN
TZID:America/New_York
X-WR-TIMEZONE:America/New_York
BEGIN:VEVENT
UID:1005@breathemiami.us
DTSTART;TZID=America/New_York:20241027T110000
DTEND;TZID=America/New_York:20241027T123000
DTSTAMP:20241005T140346Z
URL:https://breathemiami.us/events/420-yoga-miami-full-body-relaxation-dee
 p-stretch/
SUMMARY:420 Yoga Miami: Full Body Relaxation + Deep Stretch
DESCRIPTION:Experience full-body relaxation and deep stretching at 420 Yoga
  Miami\, a restorative yoga class designed to leave participants feeling r
 enewed and at peace. Held at 588 NW 52nd St in Miami\, this in-person even
 t welcomes practitioners of all skill levels\, from beginners to experienc
 ed yogis.\n\nThe class combines the healing power of yoga\, plant medicine
 \, and a supportive community\, creating a space for participants to relea
 se physical tension\, enhance flexibility\, and cultivate a sense of inner
  calm. Through mindful movements and stretches\, attendees will experience
  a deep connection between mind\, body\, and spirit\, leaving them rejuven
 ated and centered.\n\nWhat to Expect:\n\n 	A welcoming environment suitabl
 e for all levels\n 	Full-body relaxation and tension release\n 	Improved f
 lexibility through deep stretches\n 	A sense of community and peace\n\nPar
 ticipants are encouraged to refer to the slideshow on the event page for m
 ore information about what to bring for the session.\n\nJoin this transfor
 mative class and discover the powerful benefits of combining yoga with hol
 istic practices for total relaxation and wellness.\n\nGET TICKETS\n
ATTACH;FMTTYPE=image/jpeg:https://breathemiami.us/wp-content/uploads/2024/
 10/420-YOGA-MIAMI-FULL-BODY-RELAXATION-DEEP-STRETCH.jpg
CATEGORIES:Wellness Events
LOCATION:588 NW 52nd St\, 588 Northwest 52nd Street \, Miami\, Florida\, 33
 127\, FL\, United States
X-APPLE-STRUCTURED-LOCATION;VALUE=URI;X-ADDRESS=588 Northwest 52nd Street \
 , Miami\, Florida\, 33127\, FL\, United States;X-APPLE-RADIUS=100;X-TITLE=
 588 NW 52nd St:geo:0,0
END:VEVENT
BEGIN:VTIMEZONE
TZID:America/New_York
X-LIC-LOCATION:America/New_York
BEGIN:DAYLIGHT
DTSTART:20240310T030000
TZOFFSETFROM:-0500
TZOFFSETTO:-0400
TZNAME:EDT
END:DAYLIGHT
END:VTIMEZONE
END:VCALENDAR