BEGIN:VCALENDAR
VERSION:2.0
PRODID:-//wp-events-plugin.com//7.2.3.1//EN
TZID:America/New_York
X-WR-TIMEZONE:America/New_York
BEGIN:VEVENT
UID:441@breathemiami.us
DTSTART;TZID=America/New_York:20240405T080000
DTEND;TZID=America/New_York:20240425T094500
DTSTAMP:20240418T231022Z
URL:https://breathemiami.us/events/40-day-kundalini-yoga-program/
SUMMARY:40-Day Kundalini Yoga Program: The Path to Wellness
DESCRIPTION:\nTransform Yourself in 40 Days: Kundalini Yoga &amp\; Inner Aw
 akening!\nAre you ready to unlock your full potential and create lasting c
 hange? Embark on a transformative journey with our 40-Day Kundalini Yoga p
 rogram\, guided by the experienced Jap Hari Kaur.\nAwaken Your Inner Power
 :\nKundalini Yoga\, combined with meditation and the powerful sounds of th
 e gong\, offers a potent path to self-discovery and personal growth. This 
 program will equip you with the tools to cultivate:\n\n\n 	Resolute Willpo
 wer: Develop unwavering determination to achieve your goals.\n 	Expanded C
 onsciousness: Gain a deeper understanding of your inner self and its conne
 ction to the universe.\n 	Vibrant Health &amp\; Happiness: Cultivate a sen
 se of well-being that radiates from the inside out.\n\nExperience the Bene
 fits:\nThrough consistent practice\, you'll experience:\n\n\n 	Clarity &am
 p\; Vision: Gain a clear perspective on your desires and the path forward.
 \n 	Increased Energy &amp\; Vitality: Feel energized and empowered to embr
 ace life's challenges.\n 	Enhanced Mental Focus: Sharpen your mind and imp
 rove your ability to stay focused.\n 	Emotional Balance: Develop greater e
 motional resilience and inner peace.\n 	Goal Achievement: Learn to manifes
 t your desires and turn dreams into reality.\n\nA Supportive Journey:\nOur
  program offers a structured and supportive environment to nurture your tr
 ansformation. Join daily morning sessions and weekend classes\, led by the
  highly experienced Jap Hari Kaur.\nJap Hari Kaur:\nWith over 20 years of 
 experience as a Holistic and Sound Therapist\, Kundalini Yoga Teacher\, an
 d Healer\, Jap Hari Kaur is passionate about guiding individuals on their 
 path to success and happiness. Her expertise and compassionate approach wi
 ll empower you to reach your full potential.\nDon't Miss Out!\nReserve you
 r spot today for the 40-Day Kundalini Yoga program. Early bird discounts a
 re available until April 13th! Invest in yourself and embark on a journey 
 of lasting change and inner awakening.\nProgram Details:\n\n\n 	Dates: Apr
 il 16th - May 25th\n 	Schedule:\n\n 	Monday-Friday: 6:50 AM - 8:30 AM\n 	S
 aturday &amp\; Sunday: 8:00 AM - 9:40 AM\n\n\n 	Instructor: Jap Hari Kaur\
 n\nTake the first step towards a more empowered and fulfilling life!\n\n\n
 \nBUY TICKETS\n
ATTACH;FMTTYPE=image/jpeg:https://breathemiami.us/wp-content/uploads/2024/
 04/https___cdn.evbuc_.com_images_725215179_284340563105_1_original.jpeg
CATEGORIES:Wellness Events
LOCATION:Abhaya Holistic Center\, 7313 SW 59th Ct. South Miami\,\, Avenue M
 iami\, Unitef State\, 33143 \,  FL \, United States
X-APPLE-STRUCTURED-LOCATION;VALUE=URI;X-ADDRESS=7313 SW 59th Ct. South Miam
 i\,\, Avenue Miami\, Unitef State\, 33143 \,  FL \, United States;X-APPLE-
 RADIUS=100;X-TITLE=Abhaya Holistic Center:geo:0,0
END:VEVENT
BEGIN:VTIMEZONE
TZID:America/New_York
X-LIC-LOCATION:America/New_York
BEGIN:DAYLIGHT
DTSTART:20240310T030000
TZOFFSETFROM:-0500
TZOFFSETTO:-0400
TZNAME:EDT
END:DAYLIGHT
END:VTIMEZONE
END:VCALENDAR