BEGIN:VCALENDAR
VERSION:2.0
PRODID:-//wp-events-plugin.com//7.2.3.1//EN
TZID:America/New_York
X-WR-TIMEZONE:America/New_York
BEGIN:VEVENT
UID:377@breathemiami.us
DTSTART;TZID=America/New_York:20240428T140000
DTEND;TZID=America/New_York:20240428T220000
DTSTAMP:20240310T135650Z
URL:https://breathemiami.us/events/4-boi-no-rolete-brazilian-country-festi
 val/
SUMMARY:4 BOI NO ROLETE Brazilian Country Festival feat. MANU BAHTIDAO
DESCRIPTION:\nYeehaw! Get Your Boots Scootin' at the Brazilian Country Fest
 ival!\nCalling all country music lovers with a taste of the tropics! The B
 razilian Country Festival is here to bring a unique blend of Brazilian fla
 ir and classic country twang to Pompano Beach. Gear up for a night of toe-
 tapping tunes headlined by the electrifying Manu Bahtidão!\nExperience th
 e Fusion:\n\n\n 	Country Hits with a Brazilian Twist: Immerse yourself in 
 the infectious energy of Brazilian country music. Expect familiar country 
 melodies infused with the vibrant rhythms and passionate vocals that defin
 e Brazilian music.\n 	Manu Bahtidão Takes the Stage: Don't miss your chan
 ce to witness the electrifying performance of Manu Bahtidão\, a rising st
 ar in the Brazilian country scene. Get ready to dance and sing along to th
 eir hit songs!\n\nMore Than Just Music:\n\n\n 	Festive Atmosphere: Immerse
  yourself in the lively atmosphere of a Brazilian festival. Expect vibrant
  decorations\, a touch of Brazilian culture\, and a friendly crowd ready t
 o have a good time.\n 	Food and Drinks: Fuel up with delicious food and re
 freshing drinks available for purchase (details may vary).\n\nA Night to R
 emember:\nWhether you're a seasoned country fan or simply looking for a un
 ique and exciting experience\, the Brazilian Country Festival has somethin
 g for everyone. Get ready for a night of unforgettable music\, cultural fu
 sion\, and good vibes!\nDon't miss your chance to experience the electrify
 ing energy of the Brazilian Country Festival! \n\n\n\nBUY TICKETS\n
ATTACH;FMTTYPE=image/jpeg:https://breathemiami.us/wp-content/uploads/2024/
 03/https___cdn.evbuc_.com_images_702521379_527002726457_1_original.jpeg
CATEGORIES:Wellness Events
LOCATION:Pompano Beach Amphitheater\, 1806 Northeast 6th Street \, Pompano 
 Beach\, Florida\, 33060\, United States
X-APPLE-STRUCTURED-LOCATION;VALUE=URI;X-ADDRESS=1806 Northeast 6th Street \
 , Pompano Beach\, Florida\, 33060\, United States;X-APPLE-RADIUS=100;X-TIT
 LE=Pompano Beach Amphitheater:geo:0,0
END:VEVENT
BEGIN:VTIMEZONE
TZID:America/New_York
X-LIC-LOCATION:America/New_York
BEGIN:DAYLIGHT
DTSTART:20240310T030000
TZOFFSETFROM:-0500
TZOFFSETTO:-0400
TZNAME:EDT
END:DAYLIGHT
END:VTIMEZONE
END:VCALENDAR