BEGIN:VCALENDAR
VERSION:2.0
PRODID:-//wp-events-plugin.com//7.2.3.1//EN
TZID:America/New_York
X-WR-TIMEZONE:America/New_York
BEGIN:VEVENT
UID:741@breathemiami.us
DTSTART;TZID=America/New_York:20240831T100000
DTEND;TZID=America/New_York:20240831T120000
DTSTAMP:20240824T064047Z
URL:https://breathemiami.us/events/305-fitness-more/
SUMMARY:305 Fitness + More
DESCRIPTION:Get ready to move\, groove\, and connect at the very first of m
 any Fitness Mystic Workshops! On Saturday\, August 31st\, we’re kicking 
 things off with an energizing 305 Fitness dance cardio workout at 10 AM\, 
 followed by a jazz funk (hip hop fusion) choreography class at 11 AM. Expe
 ct a playlist full of Virgo season-inspired tunes that will keep you motiv
 ated and in the zone!\n\nNo dance experience? No problem! Beginners are mo
 re than welcome to join in the fun. 🪩\n\nIn response to popular demand\
 , we've added an extra dance class along with stretch and mindset practice
 s to our pop-up events. This is more than just a workout—it's a chance t
 o build community\, network\, and grow personally through the power of dan
 ce and exercise.\n\nSpecial Offer: Fitness Mystic All Access guests will r
 eceive a complimentary goodie bag filled with surprises! 🎁🛍️\n\nWe
 ’re excited to welcome you into the Fitness Mystic tribe\, where empower
 ment\, fun\, and self-development come together. 💜⚡️\n\nGET TICKETS
 \n
ATTACH;FMTTYPE=image/jpeg:https://breathemiami.us/wp-content/uploads/2024/
 08/305-Fitness-More.jpg
CATEGORIES:Sports &amp; Fitness Events,Things To Do,Wellness Events
LOCATION:Cambio Studio\, 3032 Northwest 7th Avenue\, Miami\, Florida\, 3312
 7\, United States
X-APPLE-STRUCTURED-LOCATION;VALUE=URI;X-ADDRESS=3032 Northwest 7th Avenue\,
  Miami\, Florida\, 33127\, United States;X-APPLE-RADIUS=100;X-TITLE=Cambio
  Studio:geo:0,0
END:VEVENT
BEGIN:VTIMEZONE
TZID:America/New_York
X-LIC-LOCATION:America/New_York
BEGIN:DAYLIGHT
DTSTART:20240310T030000
TZOFFSETFROM:-0500
TZOFFSETTO:-0400
TZNAME:EDT
END:DAYLIGHT
END:VTIMEZONE
END:VCALENDAR