BEGIN:VCALENDAR
VERSION:2.0
PRODID:-//wp-events-plugin.com//7.2.3.1//EN
TZID:America/New_York
X-WR-TIMEZONE:America/New_York
BEGIN:VEVENT
UID:1292@breathemiami.us
DTSTART;TZID=America/New_York:20250305T190000
DTEND;TZID=America/New_York:20250305T210000
DTSTAMP:20250227T193157Z
URL:https://breathemiami.us/events/305-day-lululemon-10k-miami-2025-regist
 ration-party/
SUMMARY:305 Day | lululemon 10K Miami 2025 Registration Party
DESCRIPTION:The lululemon 10K Miami 2025 Registration Party will be a landm
 ark event\, marking the first-ever lululemon 10K in the vibrant city of Mi
 ami. To kick off this exciting occasion\, a festive registration party wil
 l be held\, offering participants the chance to secure their spot for the 
 race while enjoying a night of celebration with mojitos (and mocktails)\, 
 delicious croquetas\, and lively rumba dancing.\nThis celebration falls pe
 rfectly on 305 Day\, a time to embrace the magic of Miami. The event invit
 es attendees to register for the lululemon 10K\, set to take place on May 
 18\, 2025\, all while reveling in the rich cultural atmosphere of the city
 .\nEvent Details:\n\n\n 	Date &amp\; Time: Wednesday\, March 5th\, startin
 g at 7:00 PM\n 	Schedule:\n\n 	7:00 PM: Kickoff with a warm welcome and co
 nnections hosted by Jorge Alfonso from Team FDC and Adashia Franklyn from 
 Running Edge 305.\n 	7:30 PM: Enjoy live music\, a mojito toast\, mouthwat
 ering croquetas\, and the infectious rhythm of dancing.\n 	8:00 PM: Secure
  your registration for the lululemon 10K with an exclusive pricing code.\n
 \n\n 	Location: Ball &amp\; Chain\, 1513 SW 8th St\, Miami\, FL 33135\, lo
 cated in the heart of Little Havana on the iconic Calle Ocho.\n\nBall &amp
 \; Chain\, a historic venue\, will set the perfect stage for this lively a
 nd community-focused evening.\nWhether you're looking to run in the lulule
 mon 10K or simply want to join in the fun\, this event promises an unforge
 ttable night in celebration of Miami’s unique energy. Mark the date and 
 come experience it firsthand!\n\n\nGET TICKETS\n
ATTACH;FMTTYPE=image/jpeg:https://breathemiami.us/wp-content/uploads/2025/
 02/305-Day.avif
CATEGORIES:Wellness Events
LOCATION:Ball & Chain\, 1513 Southwest 8th Street \, Miami\, Florida\,  331
 35 \, FL\, United States
X-APPLE-STRUCTURED-LOCATION;VALUE=URI;X-ADDRESS=1513 Southwest 8th Street \
 , Miami\, Florida\,  33135 \, FL\, United States;X-APPLE-RADIUS=100;X-TITL
 E=Ball & Chain:geo:0,0
END:VEVENT
BEGIN:VTIMEZONE
TZID:America/New_York
X-LIC-LOCATION:America/New_York
BEGIN:STANDARD
DTSTART:20241103T010000
TZOFFSETFROM:-0400
TZOFFSETTO:-0500
TZNAME:EST
END:STANDARD
END:VTIMEZONE
END:VCALENDAR