BEGIN:VCALENDAR
VERSION:2.0
PRODID:-//wp-events-plugin.com//7.2.3.1//EN
TZID:America/New_York
X-WR-TIMEZONE:America/New_York
BEGIN:VEVENT
UID:977@breathemiami.us
DTSTART;TZID=America/New_York:20241025T090000
DTEND;TZID=America/New_York:20241027T190000
DTSTAMP:20241003T095909Z
URL:https://breathemiami.us/events/3-day-ultimate-wellness-retreat-at-faen
 a-hotel-miami-beach-2/
SUMMARY:3-day Ultimate Wellness RETREAT at FAENA Hotel\, Miami Beach
DESCRIPTION:The 3-Day Ultimate Wellness Retreat at Faena Hotel\, Miami Beac
 h\, from October 25-27\, offers a transformative escape designed to help p
 articipants rejuvenate\, recharge\, and reconnect with themselves. Set in 
 the luxurious Faena Hotel\, this retreat provides a holistic approach to w
 ellness\, incorporating modern science-based strategies and ancient practi
 ces to promote healing and balance.\n\nParticipants will engage in lecture
 s on Health Optimization and Longevity led by doctors and biohackers\, off
 ering insights into enhancing overall well-being. The retreat also include
 s hands-on experiences with cutting-edge biohacking technologies and tradi
 tional methods such as Kundalini Yoga\, Superbrain Yoga\, Breathwork\, Med
 itation\, and Sound Healing sessions in the serene Faena hammam.\n\nOne of
  the retreat's highlights is a Basic Pranic Healing Workshop\, where atten
 dees can earn certification and explore their innate healing abilities. Th
 is experiential workshop aims to unlock new dimensions of wellness\, spiri
 tuality\, and prosperity.\n\nBeyond the daily wellness activities\, guests
  will have exclusive access to Faena's world-class wellness facilities\, i
 ncluding the sauna\, steam room\, hammam\, and ice chamber\, enhancing the
  detoxification and relaxation process. Lunch and dinner are included each
  day\, and discounted hotel rooms are available for retreat participants.\
 n\nWhether seeking serenity\, rejuvenation\, or personal transformation\, 
 the Ultimate Wellness Retreat at Faena Hotel promises an enriching experie
 nce that nurtures the mind\, body\, and spirit.\n\nFor more details\, visi
 t: https://www.ultimatewellness.miami/retreat.\n\nGET TICKETS\n
ATTACH;FMTTYPE=image/jpeg:https://breathemiami.us/wp-content/uploads/2024/
 10/3-day-Ultimate-Wellness-RETREAT-at-FAENA-Hotel-Miami-Beach-1.jpg
CATEGORIES:Retreats Events
LOCATION:Faena Hotel\, 3201 Collins Avenue Miami Beach\, Miami Beach\, Flor
 ida\, 33140\, FL\, United States
X-APPLE-STRUCTURED-LOCATION;VALUE=URI;X-ADDRESS=3201 Collins Avenue Miami B
 each\, Miami Beach\, Florida\, 33140\, FL\, United States;X-APPLE-RADIUS=1
 00;X-TITLE=Faena Hotel:geo:0,0
END:VEVENT
BEGIN:VTIMEZONE
TZID:America/New_York
X-LIC-LOCATION:America/New_York
BEGIN:DAYLIGHT
DTSTART:20240310T030000
TZOFFSETFROM:-0500
TZOFFSETTO:-0400
TZNAME:EDT
END:DAYLIGHT
END:VTIMEZONE
END:VCALENDAR