BEGIN:VCALENDAR
VERSION:2.0
PRODID:-//wp-events-plugin.com//7.2.3.1//EN
TZID:America/New_York
X-WR-TIMEZONE:America/New_York
BEGIN:VEVENT
UID:1068@breathemiami.us
DTSTART;TZID=America/New_York;VALUE=DATE:20241019
DTEND;TZID=America/New_York;VALUE=DATE:20241020
DTSTAMP:20241013T095545Z
URL:https://breathemiami.us/events/2024-justice-award-dinner/
SUMMARY:2024 Justice Award Dinner
DESCRIPTION:The Miami-Dade legal community invites everyone to a special ev
 ening dedicated to honoring three outstanding individuals at the prestigio
 us 2024 Justice Award Dinner. This annual event serves as a platform to re
 cognize and celebrate the exceptional contributions made by legal professi
 onals who have demonstrated unwavering commitment to justice and community
  service.\n\nA Night of Celebration\n\nGuests can look forward to an inspi
 ring night filled with heartfelt speeches\, meaningful connections\, and a
  chance to reflect on the invaluable impact these awardees have made in th
 e field of law. Each honoree will share their unique stories\, highlightin
 g their dedication and the transformative work they have accomplished in s
 erving the Miami-Dade community.\n\nConnecting Through Justice\n\nThis din
 ner not only celebrates the achievements of these remarkable individuals b
 ut also provides an opportunity for attendees to network and foster relati
 onships with fellow legal professionals\, community leaders\, and advocate
 s for justice. It’s a moment to come together\, united by a shared passi
 on for the rule of law and a commitment to serving the community.\n\nJoin 
 the Celebration\n\nDon’t miss the chance to be part of this inspiring ev
 ent\, as we come together to acknowledge and honor those who have made sig
 nificant strides in promoting justice and equality in our society. The 202
 4 Justice Award Dinner promises to be a memorable occasion filled with ins
 piration\, camaraderie\, and a renewed commitment to the values we cherish
 .\n\nGET TICKETS\n
ATTACH;FMTTYPE=image/jpeg:https://breathemiami.us/wp-content/uploads/2024/
 10/2024-Justice-Award-Dinner.jpg
CATEGORIES:Food &amp; Drink Events,Things To Do
LOCATION:Jungle Island\, 1111 Parrot Jungle Trail Miami\, Miami\, Florida\,
  33132 \, FL\, United States
X-APPLE-STRUCTURED-LOCATION;VALUE=URI;X-ADDRESS=1111 Parrot Jungle Trail Mi
 ami\, Miami\, Florida\, 33132 \, FL\, United States;X-APPLE-RADIUS=100;X-T
 ITLE=Jungle Island:geo:0,0
END:VEVENT
BEGIN:VTIMEZONE
TZID:America/New_York
X-LIC-LOCATION:America/New_York
BEGIN:DAYLIGHT
DTSTART:20240310T030000
TZOFFSETFROM:-0500
TZOFFSETTO:-0400
TZNAME:EDT
END:DAYLIGHT
END:VTIMEZONE
END:VCALENDAR