BEGIN:VCALENDAR
VERSION:2.0
PRODID:-//wp-events-plugin.com//7.2.3.1//EN
TZID:America/New_York
X-WR-TIMEZONE:America/New_York
BEGIN:VEVENT
UID:1052@breathemiami.us
DTSTART;TZID=America/New_York:20241025T183000
DTEND;TZID=America/New_York:20241025T210000
DTSTAMP:20241013T072511Z
URL:https://breathemiami.us/events/2024-ics-annual-trunk-or-treat/
SUMMARY:2024 ICS Annual Trunk or Treat
DESCRIPTION:Immaculate Conception Catholic School is thrilled to announce i
 ts Annual Trunk or Treat Event\, promising an exciting evening filled with
  festive fun! This cherished community gathering invites families to join 
 in on a night of trick-or-treating\, lively music\, and plenty of photo op
 portunities\, making it a memorable experience for attendees of all ages.\
 n\nParticipants can look forward to a vibrant Car Decoration Contest\, whe
 re creativity takes center stage. Vehicles will be adorned in spooky and f
 estive themes\, showcasing the imaginative spirit of our community. The wi
 nner\, determined by Mrs. Acosta and the school’s Deans\, will be awarde
 d a Celtic Swag Bag\, a gift card\, and\, of course\, the coveted bragging
  rights! The announcement of the winner will take place after the event\, 
 adding to the anticipation.\n\nImportant Details:\n\n 	Parking Passes: Lim
 ited space is available\, with parking passes priced at $25. Each pass inc
 ludes four entrances for participating vehicles in the Trunk or Treat. Car
 s with paid parking passes must arrive between 5 PM and 6 PM\, as no vehic
 les will be admitted after 6 PM.\n 	Trick or Treat Tickets: Secure your pr
 e-sale tickets for just $8 per person\, or purchase them at the door for $
 10. Don’t miss the chance to partake in this delightful Halloween tradit
 ion!\n\nMark your calendars\, as the last day to purchase tickets is Thurs
 day\, October 24th. Get ready for a spooktacular evening filled with laugh
 ter\, treats\, and festive fun at the 2024 ICS Annual Trunk or Treat! This
  event is the perfect opportunity to connect with friends and family while
  celebrating the Halloween spirit in a safe and enjoyable environment.\n\n
 GET TICKETS\n
ATTACH;FMTTYPE=image/jpeg:https://breathemiami.us/wp-content/uploads/2024/
 10/2024-ICS-Annual-Trunk-or-Treat.jpg
CATEGORIES:Food &amp; Drink Events,Things To Do
LOCATION:Immaculate Conception Catholic School\, 125 West 45th Street Hiale
 ah\, Miami\, Florida\, 33012\, FL\, United States
X-APPLE-STRUCTURED-LOCATION;VALUE=URI;X-ADDRESS=125 West 45th Street Hialea
 h\, Miami\, Florida\, 33012\, FL\, United States;X-APPLE-RADIUS=100;X-TITL
 E=Immaculate Conception Catholic School:geo:0,0
END:VEVENT
BEGIN:VTIMEZONE
TZID:America/New_York
X-LIC-LOCATION:America/New_York
BEGIN:DAYLIGHT
DTSTART:20240310T030000
TZOFFSETFROM:-0500
TZOFFSETTO:-0400
TZNAME:EDT
END:DAYLIGHT
END:VTIMEZONE
END:VCALENDAR