BEGIN:VCALENDAR
VERSION:2.0
PRODID:-//wp-events-plugin.com//7.2.3.1//EN
TZID:America/New_York
X-WR-TIMEZONE:America/New_York
BEGIN:VEVENT
UID:912@breathemiami.us
DTSTART;TZID=America/New_York:20241025T190000
DTEND;TZID=America/New_York:20241025T220000
DTSTAMP:20240926T182313Z
URL:https://breathemiami.us/events/2024-halloween-haunted-trails-and-kids-
 zone/
SUMMARY:2024 Halloween Haunted Trails and Kids Zone
DESCRIPTION:Get ready for a spooky celebration as the City of North Miami i
 nvites you to kick off the Halloween season in style at the 2024 Halloween
  Haunted Trails and Kids Zone! This annual event promises an evening of fr
 ightful fun and eerie excitement for all ages.\n\nGather your friends and 
 family and step into a world of haunted trails where spine-chilling creatu
 res lurk around every corner. Brave souls can embark on a thrilling journe
 y through the Haunted Trails\, designed to give you goosebumps and a few g
 ood scares!\n\nFor the littlest goblins and ghouls\, the Family Fun Zone i
 s a safe and lively area filled with Halloween activities. Children can pa
 rticipate in a festive costume parade\, enjoy hayrides and pony rides\, pl
 ay a variety of games\, and dance to live music entertainment. There will 
 be plenty of interactive stations and hands-on fun\, ensuring a memorable 
 experience for all the young party-goers.\n\nFeeling hungry? Grab a bite a
 t one of the many food vendors stationed throughout the park\, offering de
 licious options to keep you fueled for a night of Halloween adventure.\n\n
 Attendees are encouraged to show up in their best Halloween costumes to fu
 lly immerse themselves in the holiday spirit. It’s a fantastic opportuni
 ty to dress up\, make memories\, and enjoy a magical evening with loved on
 es.\n\nWant to get more involved? Volunteers and vendors are welcome to jo
 in the fun and be part of this spooky spectacular! Don’t miss this chanc
 e to create lasting Halloween memories at North Miami's most exciting fall
  event.\n\nMark your calendars and prepare for a hauntingly good time!\n\n
 GET TICKETS\n
ATTACH;FMTTYPE=image/jpeg:https://breathemiami.us/wp-content/uploads/2024/
 09/2024-Halloween-Haunted-Trails-and-Kids-Zone.jpg
CATEGORIES:Things To Do
LOCATION:Enchanted Forest Elaine Gordon Park\, 1725 Northeast 135th Street 
 North Miami\, Miami\, Florida\, 33181\, FL\, United States
X-APPLE-STRUCTURED-LOCATION;VALUE=URI;X-ADDRESS=1725 Northeast 135th Street
  North Miami\, Miami\, Florida\, 33181\, FL\, United States;X-APPLE-RADIUS
 =100;X-TITLE=Enchanted Forest Elaine Gordon Park:geo:0,0
END:VEVENT
BEGIN:VTIMEZONE
TZID:America/New_York
X-LIC-LOCATION:America/New_York
BEGIN:DAYLIGHT
DTSTART:20240310T030000
TZOFFSETFROM:-0500
TZOFFSETTO:-0400
TZNAME:EDT
END:DAYLIGHT
END:VTIMEZONE
END:VCALENDAR