BEGIN:VCALENDAR
VERSION:2.0
PRODID:-//wp-events-plugin.com//7.2.3.1//EN
TZID:America/New_York
X-WR-TIMEZONE:America/New_York
BEGIN:VEVENT
UID:862@breathemiami.us
DTSTART;TZID=America/New_York:20241019T100000
DTEND;TZID=America/New_York:20241020T160000
DTSTAMP:20240910T202111Z
URL:https://breathemiami.us/events/2024-ford-boca-pumpkin-patch-festival/
SUMMARY:2024 Ford Boca Pumpkin Patch Festival
DESCRIPTION:The Ford Boca Pumpkin Patch Festival is returning this fall wit
 h more enchantment than ever before! On October 19th and 20th\, 2024\, the
  Mizner Park Amphitheater in Boca Raton will transform into a vibrant autu
 mn wonderland\, inviting families and friends to celebrate the season’s 
 splendor.\n\nEvent Highlights:\n\n 	Pumpkin Patch: Dive into the joy of fa
 ll with over 2\,500 pumpkins available for selection. Whether you’re loo
 king for the perfect pumpkin to carve or just want to enjoy the festive am
 biance\, there’s a pumpkin for everyone.\n 	Carnival Rides: Enjoy unlimi
 ted access to an array of carnival rides suitable for all ages. Thrilling 
 rides and family-friendly attractions ensure that everyone has a blast.\n 
 	Inflatable Cornstalk Maze: Navigate through a fun-filled inflatable maze\
 , perfect for both kids and adults seeking an adventure.\n 	Dress-Your-Own
  Scarecrow Village: Unleash your creativity by crafting your very own scar
 ecrow. This interactive activity is a hit with both children and adults.\n
  	Photo Vignettes: Capture the beauty of fall with numerous picturesque ph
 oto spots designed to help you snap the perfect seasonal photo.\n\nAdditio
 nal Information:\n\n 	Date: October 19 &amp\; 20\, 2024\n 	Location: Mizne
 r Park Amphitheater\, Boca Raton\n 	Entrance Fee: Includes unlimited carni
 val rides\, access to attractions\, and more.\n\nThis year’s festival pr
 omises a fun-filled experience with delightful autumnal activities and end
 less opportunities for making cherished memories with loved ones. Don’t 
 miss out on this spectacular celebration of fall. We look forward to seein
 g you there!\n\n\nGET TICKETS\n\n
ATTACH;FMTTYPE=image/jpeg:https://breathemiami.us/wp-content/uploads/2024/
 09/2024-Ford-Boca-Pumpkin-Patch-Festival.jpg
CATEGORIES:Things To Do
LOCATION:Mizner Park Amphitheater\, 590 Plaza Real Boca \, Raton\, Florida\
 , 33432\, United States
X-APPLE-STRUCTURED-LOCATION;VALUE=URI;X-ADDRESS=590 Plaza Real Boca \, Rato
 n\, Florida\, 33432\, United States;X-APPLE-RADIUS=100;X-TITLE=Mizner Park
  Amphitheater:geo:0,0
END:VEVENT
BEGIN:VTIMEZONE
TZID:America/New_York
X-LIC-LOCATION:America/New_York
BEGIN:DAYLIGHT
DTSTART:20240310T030000
TZOFFSETFROM:-0500
TZOFFSETTO:-0400
TZNAME:EDT
END:DAYLIGHT
END:VTIMEZONE
END:VCALENDAR