BEGIN:VCALENDAR
VERSION:2.0
PRODID:-//wp-events-plugin.com//7.2.3.1//EN
TZID:America/New_York
X-WR-TIMEZONE:America/New_York
BEGIN:VEVENT
UID:754@breathemiami.us
DTSTART;TZID=America/New_York:20240909T210000
DTEND;TZID=America/New_York:20240911T140000
DTSTAMP:20240825T065436Z
URL:https://breathemiami.us/events/2024-florida-supply-chain-summit/
SUMMARY:2024 Florida Supply Chain Summit
DESCRIPTION:Welcome to the 2024 Florida Supply Chain Summit\, a premier eve
 nt designed for professionals and enthusiasts in the supply chain industry
 . Spanning three dynamic days\, this summit will be held in person\, offer
 ing an unparalleled platform for networking\, education\, and collaboratio
 n.\n\nAttendees will have the opportunity to engage with leading industry 
 experts through a series of keynote presentations\, interactive workshops\
 , and panel discussions. The summit is tailored to cater to a broad range 
 of participants—from seasoned veterans to newcomers eager to learn and g
 row within the supply chain sector.\n\nThroughout the event\, attendees ca
 n immerse themselves in:\n\n 	Keynote Addresses: Hear from thought leaders
  who will share their insights on the latest trends\, challenges\, and inn
 ovations in supply chain management.\n 	Interactive Workshops: Participate
  in hands-on sessions that delve into practical solutions and strategies f
 or optimizing supply chain operations.\n 	Networking Opportunities: Connec
 t with like-minded professionals\, industry peers\, and potential collabor
 ators to exchange ideas and forge new partnerships.\n\nWhether you aim to 
 deepen your expertise\, stay abreast of industry advancements\, or expand 
 your professional network\, the 2024 Florida Supply Chain Summit promises 
 to be an invaluable experience. Don’t miss this opportunity to enhance y
 our knowledge\, build connections\, and propel your career in the evolving
  world of supply chain management.\n\nGET TICKETS\n
ATTACH;FMTTYPE=image/jpeg:https://breathemiami.us/wp-content/uploads/2024/
 08/2024-Florida-Supply-Chain-Summit.jpg
CATEGORIES:Things To Do,Wellness Events
LOCATION:Miami Marriott Biscayne Bay\, 1633 North Bayshore Drive\, Miami\, 
 Florida\, 33132\, FL\, United States
X-APPLE-STRUCTURED-LOCATION;VALUE=URI;X-ADDRESS=1633 North Bayshore Drive\,
  Miami\, Florida\, 33132\, FL\, United States;X-APPLE-RADIUS=100;X-TITLE=M
 iami Marriott Biscayne Bay:geo:0,0
END:VEVENT
BEGIN:VTIMEZONE
TZID:America/New_York
X-LIC-LOCATION:America/New_York
BEGIN:DAYLIGHT
DTSTART:20240310T030000
TZOFFSETFROM:-0500
TZOFFSETTO:-0400
TZNAME:EDT
END:DAYLIGHT
END:VTIMEZONE
END:VCALENDAR