BEGIN:VCALENDAR
VERSION:2.0
PRODID:-//wp-events-plugin.com//7.2.3.1//EN
TZID:America/New_York
X-WR-TIMEZONE:America/New_York
BEGIN:VEVENT
UID:716@breathemiami.us
DTSTART;TZID=America/New_York:20240928T090000
DTEND;TZID=America/New_York:20240929T200000
DTSTAMP:20240823T062046Z
URL:https://breathemiami.us/events/2-day-conference-ultimate-wellness-at-f
 aena-forum/
SUMMARY:2-Day Conference - Ultimate Wellness at FAENA Forum
DESCRIPTION:Unlock Your Full Potential at the Ultimate Wellness Conference\
 nJoin us at Faena Forum\, Miami Beach\, on September 28-29\, for an extrao
 rdinary two-day event where holistic wellness converges with cutting-edge 
 bio and health technologies.\nEvent Overview:\nImmerse yourself in an insp
 iring and transformative journey that explores the deep connection between
  spirit\, mind\, and body. This conference offers science-backed strategie
 s for optimizing health and longevity\, providing a comprehensive approach
  to wellness.\nWhat to Expect:\nExpert Insights: Learn from world-renowned
  speakers\, including leading scientists\, doctors\, and healers. Dive dee
 p into the latest advancements in regenerative medicine\, stress managemen
 t\, mental well-being\, metabolic health\, hormonal balance\, gut health\,
  detoxification\, cellular health\, and more.\n\nHolistic Experiences: Eng
 age in powerful wellness practices that reconnect you with your higher sel
 f. Explore ancient techniques for self-care and inner balance\, integrated
  with modern biohacking technologies that enhance your journey toward opti
 mal health.\nWhy Attend?\n\n 	Reverse Biological Age: Discover strategies 
 to slow down aging and rejuvenate your body.\n 	Optimize Mental &amp\; Phy
 sical Health: Gain tools to manage stress\, balance hormones\, and improve
  metabolic and gut health.\n 	Innovative Wellness: Experience the latest i
 n biohacking and health technologies that support cellular regeneration an
 d overall vitality.\n 	Spiritual Growth: Join a community of like-minded i
 ndividuals on a path toward self-discovery\, healing\, and personal empowe
 rment.\n\nJoin the Movement:\nBe a part of this vibrant spiritual communit
 y and activate your highest potential. Learn how to create the life and bu
 siness of your dreams while contributing to a positive global impact. This
  conference is not just an event—it’s a call to action for those ready
  to transform their lives and the world around them.\n\nMark Your Calendar
  and step into a world of wellness\, innovation\, and spiritual growth. We
  look forward to welcoming you to this life-changing experience at the Fae
 na Forum!\n\nGET TICKETS\n
ATTACH;FMTTYPE=image/jpeg:https://breathemiami.us/wp-content/uploads/2024/
 08/2-Day-Conference-Ultimate-Wellness-at-FAENA-Forum.jpg
CATEGORIES:Mindfulness Events,Things To Do,Wellness Events,Yoga Events
LOCATION:Faena Forum\, 3300-3398 Collins Avenue \, Miami\, Florida\, 33140\
 ,  FL \, United States
X-APPLE-STRUCTURED-LOCATION;VALUE=URI;X-ADDRESS=3300-3398 Collins Avenue \,
  Miami\, Florida\, 33140\,  FL \, United States;X-APPLE-RADIUS=100;X-TITLE
 =Faena Forum:geo:0,0
END:VEVENT
BEGIN:VTIMEZONE
TZID:America/New_York
X-LIC-LOCATION:America/New_York
BEGIN:DAYLIGHT
DTSTART:20240310T030000
TZOFFSETFROM:-0500
TZOFFSETTO:-0400
TZNAME:EDT
END:DAYLIGHT
END:VTIMEZONE
END:VCALENDAR