BEGIN:VCALENDAR
VERSION:2.0
PRODID:-//wp-events-plugin.com//7.2.3.1//EN
TZID:America/New_York
X-WR-TIMEZONE:America/New_York
BEGIN:VEVENT
UID:117@breathemiami.us
DTSTART;TZID=America/New_York:20231008T130000
DTEND;TZID=America/New_York:20231008T170000
DTSTAMP:20240907T180109Z
URL:https://breathemiami.us/events/13th-annual-not-so-scary-family-hallowe
 en-bash/
SUMMARY:13th Annual Not So Scary Family Halloween Bash
DESCRIPTION:Join for an afternoon of Halloween family fun at the Miami Chil
 dren's Museum's "Not So Scary Halloween Bash" on Sunday\, October 8th. In 
 its 13th edition\, this family-friendly Halloween extravaganza promises a 
 plethora of enjoyable activities for the kids. These include trick-or-trea
 ting throughout the museum's 17 galleries\, mini pumpkin decorating\, spoo
 ky arts and crafts\, a delicious lunch\, character meet-and-greets\, and m
 uch more! And for those feeling brave\, the museum's famous Haunted House 
 eagerly awaits your visit. Don't forget to come dressed in your finest Hal
 loween costumes!\n\n&nbsp\;\n\nIt's worth noting that all proceeds from th
 is event will directly contribute to supporting the Museum's educational p
 rograms\, ensuring the delivery of high-quality\, immersive\, hands-on lea
 rning experiences for children of all backgrounds and abilities.\n\n&nbsp\
 ;\n\nPlease keep in mind that this event will take place regardless of the
  weather\, rain or shine. Additionally\, children under the age of two do 
 not require a ticket for entry.\n\n&nbsp\;\n\nDiscover more exciting and b
 est October events in Miami  
CATEGORIES:Mindfulness Events
LOCATION:Miami Children's Museum\, 980 MacArthur Causeway\, Miami\, Florida
 \, 33139\, United States
X-APPLE-STRUCTURED-LOCATION;VALUE=URI;X-ADDRESS=980 MacArthur Causeway\, Mi
 ami\, Florida\, 33139\, United States;X-APPLE-RADIUS=100;X-TITLE=Miami Chi
 ldren's Museum:geo:0,0
END:VEVENT
BEGIN:VTIMEZONE
TZID:America/New_York
X-LIC-LOCATION:America/New_York
BEGIN:DAYLIGHT
DTSTART:20230312T030000
TZOFFSETFROM:-0500
TZOFFSETTO:-0400
TZNAME:EDT
END:DAYLIGHT
END:VTIMEZONE
END:VCALENDAR