BEGIN:VCALENDAR
VERSION:2.0
PRODID:-//wp-events-plugin.com//7.2.3.1//EN
TZID:America/New_York
X-WR-TIMEZONE:America/New_York
BEGIN:VEVENT
UID:1335@breathemiami.us
DTSTART;TZID=America/New_York:20251111T190000
DTEND;TZID=America/New_York:20251111T203000
DTSTAMP:20251027T165722Z
URL:https://breathemiami.us/events/111-portal-activation-ancestral-sound-b
 ath-w-lilyana-2025-11-11/
SUMMARY:1111 Portal Activation: Ancestral Sound Bath w/ LilyAna
DESCRIPTION:Step into a ceremonial evening of sound and remembrance.\nGuide
 d by LilyAna\, this immersive journey weaves together ancestral instrument
 s\, crystal frequencies\, and intuitive voice to open portals of memory an
 d healing. Joined by Rob Newmans and other featured guest artists\, the sp
 ace becomes a living tapestry of vibration—inviting you to soften\, list
 en\, and remember.\n\nYou’ll be carried through waves of resonance desig
 ned to restore balance\, release tension\, and reconnect you with the deep
 er rhythms of your own being.\n\nMats Provided – No need to bring your o
 wn mat\, we’ve got you covered.\nTips for the Best Experience:\n•⁠ 
 ⁠Wear comfortable clothing that allows you to relax with ease\n•⁠ 
 ⁠Hydrate beforehand\n•⁠ ⁠Keep phones on silent to stay fully prese
 nt\nWe can’t wait to share this sacred evening of sound and remembrance 
 with you.\nSee you on the mat.\n\nOptional Comfort Items: For an even dee
 per relaxation\, feel free to bring a blanket and pillow.
ATTACH;FMTTYPE=image/jpeg:https://breathemiami.us/wp-content/uploads/2025/
 09/dgfr030cbkht0uz8bk9p.jpg
CATEGORIES:Mindfulness Events,Things To Do,Wellness Events
LOCATION:ARTXSPACE\, 301 NW 28th St\, Miami\, Florida\, 33127\, FL\, United
  States
X-APPLE-STRUCTURED-LOCATION;VALUE=URI;X-ADDRESS=301 NW 28th St\, Miami\, Fl
 orida\, 33127\, FL\, United States;X-APPLE-RADIUS=100;X-TITLE=ARTXSPACE:ge
 o:0,0
END:VEVENT
BEGIN:VTIMEZONE
TZID:America/New_York
X-LIC-LOCATION:America/New_York
BEGIN:STANDARD
DTSTART:20251102T010000
TZOFFSETFROM:-0400
TZOFFSETTO:-0500
TZNAME:EST
END:STANDARD
END:VTIMEZONE
END:VCALENDAR