BEGIN:VCALENDAR
VERSION:2.0
PRODID:-//wp-events-plugin.com//7.2.3.1//EN
TZID:America/New_York
X-WR-TIMEZONE:America/New_York
BEGIN:VEVENT
UID:1174@breathemiami.us
DTSTART;TZID=America/New_York:20241117T180000
DTEND;TZID=America/New_York:20241117T200000
DTSTAMP:20241023T162730Z
URL:https://breathemiami.us/events/11-17-shanti-full-moon-ritual/
SUMMARY:11/17 Shanti Full Moon Ritual
DESCRIPTION:"Shanti\," the Sanskrit word for peace\, is often chanted three
  times in Hindu and Buddhist traditions\, symbolizing peace for the body\,
  mind\, and spirit. Join us for the Shanti Full Moon Ritual\, a deep immer
 sion into tranquility\, led by Rosie Araujo. This sacred event offers a bl
 end of movement\, breathwork\, scent\, sound\, and community\, guiding you
  toward inner peace. Through progressive pranayama\, slow-flow yoga\, calm
 ing scents\, and hypnotic sounds\, you’ll embark on a journey of self-ex
 pression and profound relaxation. The session will conclude with a soothin
 g sound bath to help reset your nervous system.\n\nAs the year comes to a 
 close\, give yourself the gift of peace\, invoking the vibrations of "Om S
 hanti\, Shanti\, Shanti"—Peace\, Peace\, Peace.\nWhat to Expect:\n\n 	La
 vender Chamomile Tea to set a calming tone\n 	Moon Meditation for groundin
 g and reflection\n 	Ceremonial Smudge to cleanse your energy\n 	Progressiv
 e Pranayama to deepen your breath\n 	Slow Flow Yoga for mindful movement\n
  	Aromatherapy to enhance relaxation\n 	Healing Sound-Bath to promote tran
 quility\n 	Nervous System Reset for lasting peace\n 	Lavender mist for all
  guests\n 	Surprise raffle gift to elevate your experience\n\nHow to Prepa
 re:\n\n 	Bring your yoga mat.\n 	Wear comfortable clothing for movement.\n
  	A journal is encouraged for reflection.\n 	Optional: Eye pillow for sava
 sana.\n 	Please arrive on time out of respect for others.\n\nSchedule:\n\n
  	Date: Sunday\, November 17\, 2024\n 	Time: 6:00 PM - 8:00 PM\n 	Location
 : MLC\, In-person\n\nFee:\n\n 	$44 per person\n\nCancellation Policy: Full
  refund minus 10% of the original fee if canceled 30 days prior to the wor
 kshop. No refunds for cancellations within 30 days of the event.\n\nReset 
 your nervous system\, connect with the moon's energy\, and embody peace as
  we close out the year in this profound Full Moon Ritual.\n\nGET TICKETS\n
ATTACH;FMTTYPE=image/jpeg:https://breathemiami.us/wp-content/uploads/2024/
 10/11-17-Shanti-Full-Moon-Ritual.jpg
CATEGORIES:Yoga Events
LOCATION:Miami Yoga Garage\, 1940 NW Miami Ct Miami\, Miami\, Florida\, 331
 36\,  FL \, United States
X-APPLE-STRUCTURED-LOCATION;VALUE=URI;X-ADDRESS=1940 NW Miami Ct Miami\, Mi
 ami\, Florida\, 33136\,  FL \, United States;X-APPLE-RADIUS=100;X-TITLE=Mi
 ami Yoga Garage:geo:0,0
END:VEVENT
BEGIN:VTIMEZONE
TZID:America/New_York
X-LIC-LOCATION:America/New_York
BEGIN:STANDARD
DTSTART:20241103T010000
TZOFFSETFROM:-0400
TZOFFSETTO:-0500
TZNAME:EST
END:STANDARD
END:VTIMEZONE
END:VCALENDAR