BEGIN:VCALENDAR
VERSION:2.0
PRODID:-//wp-events-plugin.com//7.2.3.1//EN
TZID:America/New_York
X-WR-TIMEZONE:America/New_York
BEGIN:VEVENT
UID:1145@breathemiami.us
DTSTART;TZID=America/New_York:20241110T100000
DTEND;TZID=America/New_York:20241110T170000
DTSTAMP:20241023T083604Z
URL:https://breathemiami.us/events/100-years-of-jai-alai/
SUMMARY:100 Years of Jai-Alai
DESCRIPTION:The HistoryMiami Museum invites visitors to explore the exhilar
 ating history of jai-alai through its captivating exhibit titled "100 Year
 s of Jai-Alai: Jai-Alai World League\," which will be on display from Augu
 st 29 to November 10. This comprehensive exhibition chronicles the evoluti
 on of jai-alai\, tracing its roots back to the 1920s\, when it emerged as 
 a beloved spectator sport\, and highlighting its journey to becoming a cul
 tural phenomenon in the 1970s and 1980s.\n\nAs attendees navigate through 
 the exhibit\, they will discover how jai-alai captured the imagination of 
 audiences\, drawing fans to its fast-paced action and unique gameplay. How
 ever\, the sport faced significant challenges in the 2010s\, leading to a 
 steep decline in popularity and a near extinction of its competitive scene
 .\n\nThe exhibition does not merely dwell on the past\; it also shines a l
 ight on the revitalization efforts that began in 2018\, demonstrating how 
 passionate advocates and new stakeholders are breathing life back into thi
 s storied sport. This resurgence is depicted through various interactive d
 isplays that invite visitors to engage with the sport's techniques\, cultu
 re\, and community.\n\nThe exhibit combines compelling storytelling with v
 isually dynamic presentations\, offering insights into jai-alai’s past\,
  present\, and future. It showcases not only the thrilling matches and leg
 endary players that defined the sport but also the ongoing transformations
  and the emergence of a new generation of supporters dedicated to preservi
 ng and promoting this unique aspect of cultural heritage.\n\nVisitors to t
 he exhibit will gain a deeper appreciation for jai-alai\, understanding it
 s significance within the sporting world and its enduring impact on the co
 mmunities that cherish it. The HistoryMiami Museum provides a platform for
  reflection and engagement\, ensuring that the legacy of jai-alai continue
 s to resonate for years to come.\n\nGET TICKETS\n
ATTACH;FMTTYPE=image/jpeg:https://breathemiami.us/wp-content/uploads/2024/
 10/100-Years-of-Jai-Alai.jpg
CATEGORIES:Things To Do
LOCATION:HistoryMiami Museum\, 101 W. Flagler St.\, Miami\, Florida\, 33130
 \,  FL \, United States
X-APPLE-STRUCTURED-LOCATION;VALUE=URI;X-ADDRESS=101 W. Flagler St.\, Miami\
 , Florida\, 33130\,  FL \, United States;X-APPLE-RADIUS=100;X-TITLE=Histor
 yMiami Museum:geo:0,0
END:VEVENT
BEGIN:VTIMEZONE
TZID:America/New_York
X-LIC-LOCATION:America/New_York
BEGIN:STANDARD
DTSTART:20241103T010000
TZOFFSETFROM:-0400
TZOFFSETTO:-0500
TZNAME:EST
END:STANDARD
END:VTIMEZONE
END:VCALENDAR