BEGIN:VCALENDAR
VERSION:2.0
PRODID:-//wp-events-plugin.com//7.2.3.1//EN
TZID:America/New_York
X-WR-TIMEZONE:America/New_York
BEGIN:VEVENT
UID:543@breathemiami.us
DTSTART;TZID=America/New_York:20240622T110000
DTEND;TZID=America/New_York:20240622T140000
DTSTAMP:20240609T034704Z
URL:https://breathemiami.us/events/100-fingers-ancient-energy-workshop/
SUMMARY:100 Fingers Ancient Energy Workshop
DESCRIPTION:Join the 100 Fingers Ancient Energy Workshop to experience the 
 transformative power of touch combined with guided positive affirmations. 
 This ancient Oriental practice promotes a state of positivity within the b
 ody\, harnessing the remarkable adaptability of the human body to integrat
 e multiple stimuli.\nThe Healing Circle\nThe session begins with a partici
 pant lying on a table surrounded by 10 practitioners. One practitioner pos
 itions at the head\, another at the feet\, and two on each arm and leg. Fo
 r two minutes\, all practitioners place their hands on the recipient\, eng
 aging in gentle massage or simple touch.\nRotational Healing\nAfter the in
 itial phase\, a 20-minute rotation around the table allows each practition
 er to touch different parts of the recipient's body. The recipient is then
  turned over\, and the process is repeated for another 20 minutes\, ensuri
 ng a full circuit around the table.\nPositive Affirmations and Guided Imag
 ery\nThroughout the session\, positive affirmations and guided imagery are
  channeled through the practitioners' hands into the recipient's body. Thi
 s not only benefits the recipient but also amplifies the affirmations and 
 sensations for the practitioners\, creating a profound mind-body connectio
 n.\nExperience Heightened Emotions\nParticipants collectively experience h
 eightened feelings of love\, compassion\, forgiveness\, and closure\, maki
 ng the connection between mind and body unmistakable. Join us to explore t
 his unique and powerful practice.\n\nGET TICKETS\n
ATTACH;FMTTYPE=image/jpeg:https://breathemiami.us/wp-content/uploads/2024/
 06/100-Fingers-Ancient-Energy-Workshop.jpg
CATEGORIES:Mindfulness Events,Wellness Events
LOCATION:Luminous Energy Exchange\, 4973 Southwest 75th Avenue #1st Floor\,
  Miami\, Florida\, 33155\,  FL \, United States
X-APPLE-STRUCTURED-LOCATION;VALUE=URI;X-ADDRESS=4973 Southwest 75th Avenue 
 #1st Floor\, Miami\, Florida\, 33155\,  FL \, United States;X-APPLE-RADIUS
 =100;X-TITLE=Luminous Energy Exchange:geo:0,0
END:VEVENT
BEGIN:VTIMEZONE
TZID:America/New_York
X-LIC-LOCATION:America/New_York
BEGIN:DAYLIGHT
DTSTART:20240310T030000
TZOFFSETFROM:-0500
TZOFFSETTO:-0400
TZNAME:EDT
END:DAYLIGHT
END:VTIMEZONE
END:VCALENDAR